BEGIN:VCALENDAR
VERSION:2.0
PRODID:-//Haltern-Online.de - ECPv6.15.20//NONSGML v1.0//EN
CALSCALE:GREGORIAN
METHOD:PUBLISH
X-ORIGINAL-URL:https://haltern-online.de
X-WR-CALDESC:Veranstaltungen für Haltern-Online.de
REFRESH-INTERVAL;VALUE=DURATION:PT1H
X-Robots-Tag:noindex
X-PUBLISHED-TTL:PT1H
BEGIN:VTIMEZONE
TZID:Europe/Berlin
BEGIN:DAYLIGHT
TZOFFSETFROM:+0100
TZOFFSETTO:+0200
TZNAME:CEST
DTSTART:20230326T010000
END:DAYLIGHT
BEGIN:STANDARD
TZOFFSETFROM:+0200
TZOFFSETTO:+0100
TZNAME:CET
DTSTART:20231029T010000
END:STANDARD
BEGIN:DAYLIGHT
TZOFFSETFROM:+0100
TZOFFSETTO:+0200
TZNAME:CEST
DTSTART:20240331T010000
END:DAYLIGHT
BEGIN:STANDARD
TZOFFSETFROM:+0200
TZOFFSETTO:+0100
TZNAME:CET
DTSTART:20241027T010000
END:STANDARD
BEGIN:DAYLIGHT
TZOFFSETFROM:+0100
TZOFFSETTO:+0200
TZNAME:CEST
DTSTART:20250330T010000
END:DAYLIGHT
BEGIN:STANDARD
TZOFFSETFROM:+0200
TZOFFSETTO:+0100
TZNAME:CET
DTSTART:20251026T010000
END:STANDARD
END:VTIMEZONE
BEGIN:VEVENT
DTSTART;TZID=Europe/Berlin:20241111T090000
DTEND;TZID=Europe/Berlin:20241206T170000
DTSTAMP:20260420T181333
CREATED:20241009T093940Z
LAST-MODIFIED:20241223T102946Z
UID:10000020-1731315600-1733504400@haltern-online.de
SUMMARY:We\, the six million - jüdisches Leben im Nationalsozialismus
DESCRIPTION:„We\, the six million“ ist eine Wanderausstellung der RWTH Aachen\, die seit 2018 durch zahlreiche Schulen im Rheinland tourt. \nIm Mittelpunkt stehen persönliche Schicksale und Biografien von Verfolgten aus dem westlichen Rheinland\, wodurch eine Verbindung zur Schülerschaft hergestellt wird\, die weit über das hinausgeht\, was Schulbücher vermitteln können. Die einzelnen Geschichten bieten tiefe Einblicke in die Lebenswege der Opfer und verdeutlichen\, dass der Holocaust ein Menschheitsverbrechen war\, das unzählige grausame Schicksale mit sich brachte. In der Ausstellung „We\, the six million“ werden die Todesopfer als Menschen präsentiert\, deren Stimmen gehört werden\, um auch zukünftige Generationen zu erreichen und ihre Geschichten weiterzugeben\, damit sie in Erinnerung bleiben.
URL:https://haltern-online.de/event/we-the-six-million-juedisches-leben-im-nationalsozialismus/
LOCATION:Altes Rathaus\, Markt 1\, Haltern am See\, Nordrhein-Westfalen\, 45721\, Germany
CATEGORIES:Kultur
ATTACH;FMTTYPE=image/jpeg:https://haltern-online.de/wp-content/uploads/2024/10/Juedisches-Leben.jpg
END:VEVENT
END:VCALENDAR