BEGIN:VCALENDAR
VERSION:2.0
PRODID:-//Haltern-Online.de - ECPv6.15.20//NONSGML v1.0//EN
CALSCALE:GREGORIAN
METHOD:PUBLISH
X-WR-CALNAME:Haltern-Online.de
X-ORIGINAL-URL:https://haltern-online.de
X-WR-CALDESC:Veranstaltungen für Haltern-Online.de
REFRESH-INTERVAL;VALUE=DURATION:PT1H
X-Robots-Tag:noindex
X-PUBLISHED-TTL:PT1H
BEGIN:VTIMEZONE
TZID:Europe/Berlin
BEGIN:DAYLIGHT
TZOFFSETFROM:+0100
TZOFFSETTO:+0200
TZNAME:CEST
DTSTART:20240331T010000
END:DAYLIGHT
BEGIN:STANDARD
TZOFFSETFROM:+0200
TZOFFSETTO:+0100
TZNAME:CET
DTSTART:20241027T010000
END:STANDARD
BEGIN:DAYLIGHT
TZOFFSETFROM:+0100
TZOFFSETTO:+0200
TZNAME:CEST
DTSTART:20250330T010000
END:DAYLIGHT
BEGIN:STANDARD
TZOFFSETFROM:+0200
TZOFFSETTO:+0100
TZNAME:CET
DTSTART:20251026T010000
END:STANDARD
BEGIN:DAYLIGHT
TZOFFSETFROM:+0100
TZOFFSETTO:+0200
TZNAME:CEST
DTSTART:20260329T010000
END:DAYLIGHT
BEGIN:STANDARD
TZOFFSETFROM:+0200
TZOFFSETTO:+0100
TZNAME:CET
DTSTART:20261025T010000
END:STANDARD
BEGIN:DAYLIGHT
TZOFFSETFROM:+0100
TZOFFSETTO:+0200
TZNAME:CEST
DTSTART:20270328T010000
END:DAYLIGHT
BEGIN:STANDARD
TZOFFSETFROM:+0200
TZOFFSETTO:+0100
TZNAME:CET
DTSTART:20271031T010000
END:STANDARD
END:VTIMEZONE
BEGIN:VEVENT
DTSTART;TZID=Europe/Berlin:20260405T190000
DTEND;TZID=Europe/Berlin:20260405T235900
DTSTAMP:20260420T110144
CREATED:20260312T154744Z
LAST-MODIFIED:20260312T154744Z
UID:10000443-1775415600-1775433540@haltern-online.de
SUMMARY:Osterfeuer Löscheinheit Hullern
DESCRIPTION:Das traditionelle Osterfeuer in Haltern am See gehört auch in diesem Jahr wieder zu den beliebten Treffpunkten rund um das Osterwochenende. \nBesucher kommen zusammen\, um in geselliger Atmosphäre das große Feuer zu erleben\, den Frühling zu begrüßen und gemeinsam Zeit mit Familie\, Freunden und Nachbarn zu verbringen. Für viele Vereine und Ortsteile ist das Osterfeuer fester Bestandteil der lokalen Tradition und ein wichtiger Anlass für Begegnung und Gemeinschaft. \nDie Löscheinheit Hullern sorgt für gemütliche Stunden am Osterfeuer. \nDas Feuer findet an der Antruper Straße\, Ortsausgang Hullern\, am Feld auf der linken Seite statt. \nBildquelle: Canva/Heimatmedien
URL:https://haltern-online.de/event/osterfeuer-loescheinheit-hullern/
LOCATION:Antruper Straße\, Antruper Straße\, Hullern\, 45721
CATEGORIES:Kinderfreundlich,Lifestyle,Natur
ATTACH;FMTTYPE=image/jpeg:https://haltern-online.de/wp-content/uploads/2026/03/osterfeuer-1200.jpg
END:VEVENT
BEGIN:VEVENT
DTSTART;TZID=Europe/Berlin:20250927T190000
DTEND;TZID=Europe/Berlin:20250927T190000
DTSTAMP:20260420T110144
CREATED:20250919T151503Z
LAST-MODIFIED:20250919T151529Z
UID:10000333-1758999600-1758999600@haltern-online.de
SUMMARY:Oktoberfest in Hullern
DESCRIPTION:Am Samstag\, den 27. September\, lädt der Heimat- und Schützenverein Hullern zum traditionellen Oktoberfest ins große Festzelt auf dem Dorfplatz ein. \nAb 19 Uhr darf gefeiert\, geschunkelt und mitgesungen werden – ganz im bayerischen Stil. \nFreut euch auf zünftige Musik\, kühle Maßbier\, bayerische Spezialitäten und eine festlich geschmückte Atmosphäre. Dirndl und Lederhose sind ausdrücklich erwünscht! Die Veranstaltung ist ein fester Bestandteil im Dorfkalender und verspricht wieder einen stimmungsvollen Abend für alle Generationen. \nTickets kosten 15 € – schnell sein lohnt sich! \nFoto: Canva
URL:https://haltern-online.de/event/oktoberfest-in-hullern/
LOCATION:Dorfplatz Hullern\, Am Knapp\, Haltern am See\, Nordrhein-Westfalen\, 45721\, Germany
CATEGORIES:Party
ATTACH;FMTTYPE=image/jpeg:https://haltern-online.de/wp-content/uploads/2025/09/oktoberfest-hullern.jpg
END:VEVENT
END:VCALENDAR