BEGIN:VCALENDAR
VERSION:2.0
PRODID:-//Haltern-Online.de - ECPv6.15.20//NONSGML v1.0//EN
CALSCALE:GREGORIAN
METHOD:PUBLISH
X-WR-CALNAME:Haltern-Online.de
X-ORIGINAL-URL:https://haltern-online.de
X-WR-CALDESC:Veranstaltungen für Haltern-Online.de
REFRESH-INTERVAL;VALUE=DURATION:PT1H
X-Robots-Tag:noindex
X-PUBLISHED-TTL:PT1H
BEGIN:VTIMEZONE
TZID:Europe/Berlin
BEGIN:DAYLIGHT
TZOFFSETFROM:+0100
TZOFFSETTO:+0200
TZNAME:CEST
DTSTART:20250330T010000
END:DAYLIGHT
BEGIN:STANDARD
TZOFFSETFROM:+0200
TZOFFSETTO:+0100
TZNAME:CET
DTSTART:20251026T010000
END:STANDARD
BEGIN:DAYLIGHT
TZOFFSETFROM:+0100
TZOFFSETTO:+0200
TZNAME:CEST
DTSTART:20260329T010000
END:DAYLIGHT
BEGIN:STANDARD
TZOFFSETFROM:+0200
TZOFFSETTO:+0100
TZNAME:CET
DTSTART:20261025T010000
END:STANDARD
BEGIN:DAYLIGHT
TZOFFSETFROM:+0100
TZOFFSETTO:+0200
TZNAME:CEST
DTSTART:20270328T010000
END:DAYLIGHT
BEGIN:STANDARD
TZOFFSETFROM:+0200
TZOFFSETTO:+0100
TZNAME:CET
DTSTART:20271031T010000
END:STANDARD
END:VTIMEZONE
BEGIN:VEVENT
DTSTART;TZID=Europe/Berlin:20260308T110000
DTEND;TZID=Europe/Berlin:20260308T170000
DTSTAMP:20260420T104901
CREATED:20260223T143430Z
LAST-MODIFIED:20260223T143430Z
UID:10000435-1772967600-1772989200@haltern-online.de
SUMMARY:Handwerkerleistungsschau
DESCRIPTION:Die Handwerkerleistungsschau in Haltern zeigt innovative Bauprodukte\, moderne Technologien und bietet die Möglichkeit\, sich vor Ort von Fachbetrieben zu individuellen Fragen beraten zu lassen. \nBei der Handwerkerleistungsschau gibt es schnell und unkompliziert die passenden Ansprechpartner. Fotos\, Skizzen oder Pläne eines Projekts können mitgebracht werden. Die Handwerker können sich so sofort ein Bild machen und gezielt beraten. \nDie Messe ist barrierefrei zugänglich\, Parkplätze stehen kostenfrei zur Verfügung. \nWeitere Informationen gibt es HIER. \nBildquelle: MesseCom
URL:https://haltern-online.de/event/handwerkerleistungsschau-2/
LOCATION:Seestadthalle\, Lippspieker 25\, Haltern am See\, Nordrhein-Westfalen\, 45721\, Germany
CATEGORIES:Gesprächskreis,Lifestyle
ATTACH;FMTTYPE=image/jpeg:https://haltern-online.de/wp-content/uploads/2025/02/Titelbild-Handwerker-Leistungsshow.jpg
END:VEVENT
BEGIN:VEVENT
DTSTART;TZID=Europe/Berlin:20260307T110000
DTEND;TZID=Europe/Berlin:20260307T170000
DTSTAMP:20260420T104901
CREATED:20260223T142551Z
LAST-MODIFIED:20260223T142551Z
UID:10000434-1772881200-1772902800@haltern-online.de
SUMMARY:Handwerkerleistungsschau
DESCRIPTION:Die Handwerkerleistungsschau in Haltern zeigt innovative Bauprodukte\, moderne Technologien und bietet die Möglichkeit\, sich vor Ort von Fachbetrieben zu individuellen Fragen beraten zu lassen. \nBei der Handwerkerleistungsschau gibt es schnell und unkompliziert die passenden Ansprechpartner. Fotos\, Skizzen oder Pläne eines Projekts können mitgebracht werden. Die Handwerker können sich so sofort ein Bild machen und gezielt beraten. \nDie Messe ist barrierefrei zugänglich\, Parkplätze stehen kostenfrei zur Verfügung. \nWeitere Informationen gibt es HIER. \nBildquelle: MesseCom
URL:https://haltern-online.de/event/handwerkerleistungsschau/
LOCATION:Seestadthalle\, Lippspieker 25\, Haltern am See\, Nordrhein-Westfalen\, 45721\, Germany
CATEGORIES:Gesprächskreis,Lifestyle
ATTACH;FMTTYPE=image/jpeg:https://haltern-online.de/wp-content/uploads/2025/02/Titelbild-Handwerker-Leistungsshow.jpg
END:VEVENT
END:VCALENDAR