BEGIN:VCALENDAR
VERSION:2.0
PRODID:-//Haltern-Online.de - ECPv6.15.20//NONSGML v1.0//EN
CALSCALE:GREGORIAN
METHOD:PUBLISH
X-ORIGINAL-URL:https://haltern-online.de
X-WR-CALDESC:Veranstaltungen für Haltern-Online.de
REFRESH-INTERVAL;VALUE=DURATION:PT1H
X-Robots-Tag:noindex
X-PUBLISHED-TTL:PT1H
BEGIN:VTIMEZONE
TZID:Europe/Berlin
BEGIN:DAYLIGHT
TZOFFSETFROM:+0100
TZOFFSETTO:+0200
TZNAME:CEST
DTSTART:20240331T010000
END:DAYLIGHT
BEGIN:STANDARD
TZOFFSETFROM:+0200
TZOFFSETTO:+0100
TZNAME:CET
DTSTART:20241027T010000
END:STANDARD
BEGIN:DAYLIGHT
TZOFFSETFROM:+0100
TZOFFSETTO:+0200
TZNAME:CEST
DTSTART:20250330T010000
END:DAYLIGHT
BEGIN:STANDARD
TZOFFSETFROM:+0200
TZOFFSETTO:+0100
TZNAME:CET
DTSTART:20251026T010000
END:STANDARD
BEGIN:DAYLIGHT
TZOFFSETFROM:+0100
TZOFFSETTO:+0200
TZNAME:CEST
DTSTART:20260329T010000
END:DAYLIGHT
BEGIN:STANDARD
TZOFFSETFROM:+0200
TZOFFSETTO:+0100
TZNAME:CET
DTSTART:20261025T010000
END:STANDARD
END:VTIMEZONE
BEGIN:VEVENT
DTSTART;TZID=Europe/Berlin:20250921T180000
DTEND;TZID=Europe/Berlin:20250921T220000
DTSTAMP:20260420T232400
CREATED:20250701T072818Z
LAST-MODIFIED:20250701T073002Z
UID:10000308-1758477600-1758492000@haltern-online.de
SUMMARY:Music meets Comedy – Benefizabend zugunsten der Sudan-Hilfe
DESCRIPTION:Ein bunter Varietéabend mit Comedy\, Musik und Sandmalerei – präsentiert von LEO Events & Marketing und der Pfarrei St. Sixtus. Alle Einnahmen fließen direkt an notleidende Menschen im Sudan. \nAm 21. September 2025 verwandelt sich die Aula des Schulzentrums Haltern in eine Bühne für ein außergewöhnliches Varieté-Erlebnis: „Music meets Comedy“. Ab 18 Uhr erwartet die Gäste ein unterhaltsames Programm mit Stimmenparodist Jörg Hammerschmidt\, Sandmalerei-Weltmeisterin Iryna Bilenka\, Musiker Thomas Weber sowie der Moderatorin und Comedienne Lieselotte Lotterlappen. \nDer gesamte Erlös des Abends kommt ohne Abzüge der Initiative „Haltern hilft – Sudan“ zugute\, die in Kooperation mit der Welthungerhilfe Spenden für Menschen in Not sammelt. \nTickets:29 Euro (Vorverkauf) / 35 Euro (Abendkasse)Vorverkaufsstellen: Bürobedarf Cleve\, Buchhandlung Kortenkamp\, Pastoralbüro St. Sixtus \nMusic-meets-Comedy
URL:https://haltern-online.de/event/music-meets-comedy-benefizabend-zugunsten-der-sudan-hilfe/
LOCATION:Aula Des Schulzentrums\, Holtwicker Str. 5\, Haltern am See\, Nordrhein-Westfalen\, 45721\, Germany
CATEGORIES:Konzert,Kultur
ATTACH;FMTTYPE=image/jpeg:https://haltern-online.de/wp-content/uploads/2025/07/Titelbild-Music-meets-Comedy.jpg
ORGANIZER;CN="LEO Events & Marketing":MAILTO:info@leo-eventmarketing.de
END:VEVENT
END:VCALENDAR