BEGIN:VCALENDAR
VERSION:2.0
PRODID:-//Haltern-Online.de - ECPv6.15.20//NONSGML v1.0//EN
CALSCALE:GREGORIAN
METHOD:PUBLISH
X-ORIGINAL-URL:https://haltern-online.de
X-WR-CALDESC:Veranstaltungen für Haltern-Online.de
REFRESH-INTERVAL;VALUE=DURATION:PT1H
X-Robots-Tag:noindex
X-PUBLISHED-TTL:PT1H
BEGIN:VTIMEZONE
TZID:Europe/Berlin
BEGIN:DAYLIGHT
TZOFFSETFROM:+0100
TZOFFSETTO:+0200
TZNAME:CEST
DTSTART:20240331T010000
END:DAYLIGHT
BEGIN:STANDARD
TZOFFSETFROM:+0200
TZOFFSETTO:+0100
TZNAME:CET
DTSTART:20241027T010000
END:STANDARD
BEGIN:DAYLIGHT
TZOFFSETFROM:+0100
TZOFFSETTO:+0200
TZNAME:CEST
DTSTART:20250330T010000
END:DAYLIGHT
BEGIN:STANDARD
TZOFFSETFROM:+0200
TZOFFSETTO:+0100
TZNAME:CET
DTSTART:20251026T010000
END:STANDARD
BEGIN:DAYLIGHT
TZOFFSETFROM:+0100
TZOFFSETTO:+0200
TZNAME:CEST
DTSTART:20260329T010000
END:DAYLIGHT
BEGIN:STANDARD
TZOFFSETFROM:+0200
TZOFFSETTO:+0100
TZNAME:CET
DTSTART:20261025T010000
END:STANDARD
BEGIN:DAYLIGHT
TZOFFSETFROM:+0100
TZOFFSETTO:+0200
TZNAME:CEST
DTSTART:20270328T010000
END:DAYLIGHT
BEGIN:STANDARD
TZOFFSETFROM:+0200
TZOFFSETTO:+0100
TZNAME:CET
DTSTART:20271031T010000
END:STANDARD
END:VTIMEZONE
BEGIN:VEVENT
DTSTART;TZID=Europe/Berlin:20251101T000000
DTEND;TZID=Europe/Berlin:20260301T000000
DTSTAMP:20260420T151519
CREATED:20251007T124313Z
LAST-MODIFIED:20251007T124421Z
UID:10000357-1761955200-1772323200@haltern-online.de
SUMMARY:Eisstockbahn mit Seeblick – Winterspaß an der Kajüte Haltern
DESCRIPTION:Nach dem großen Erfolg der vergangenen Jahre geht das beliebte Eisstockschießen an der Kajüte Haltern in die nächste Runde. Vom 1. November 2025 bis 1. März 2026 verwandelt sich das Gelände rund um die Kajüte und Kombüse erneut in eine winterliche Freizeitfläche mit Kunsteisbahn und Seeblick. \nDas traditionelle Mannschaftsspiel begeistert Familien\, Vereine\, Schulen und Firmen gleichermaßen. Ziel ist es\, den Eisstock so nah wie möglich an die „Daube“ zu schießen – ein spannender Spaß mit Teamgeist\, Präzision und einer Portion Glück. Auch Kinder können mit leichteren Eisstöcken mitmachen. \nDie neue Bahn sorgt 2025/26 für noch mehr Spielspaß und eignet sich ideal für Weihnachtsfeiern\, Gruppenausflüge oder gemütliche Wintertage. \nWer nach dem Spiel einkehren möchte\, kann in der Kajüte und Kombüse oder auf der beheizten\, überdachten Terrasse regionale Spezialitäten genießen.Besonders beliebt sind die winterlichen Angebote: \n\n\n„Paket Grünkohlwohl“ – Grünkohl mit Mettwurst und Kasseler & 1 Glas Herren-Créme (17\,90 € p. P.) \n\n\n„Gulasch-Schmaus“ – Rindergulasch mit Spätzle\, Gurkensalat & 1 Glas Herren-Créme (19\,90 € p. P.) \n\n\nFür Buffet- und Sitzplatzreservierungen steht das Team per E-Mail unter eisstockbahn@rossini-haltern.de oder telefonisch unter 02364 / 9529421 (täglich ab 12 Uhr) zur Verfügung. \n👉 Online-Buchung ab dem 12. September 2025 um 9 Uhr unter:www.rossini-haltern.de
URL:https://haltern-online.de/event/eisstockbahn-mit-seeblick-winterspass-an-der-kajuete-haltern/
LOCATION:Zur Kajüte\, Strandallee 6\, Haltern am See\, Nordrhein-Westfalen\, 45721\, Germany
CATEGORIES:Winter am See
ATTACH;FMTTYPE=image/jpeg:https://haltern-online.de/wp-content/uploads/2025/10/eisstockbahn-an-der-kajuete.jpg
ORGANIZER;CN="Zur Kaj%C3%BCte":MAILTO:mail@rossini-haltern.de
END:VEVENT
BEGIN:VEVENT
DTSTART;TZID=Europe/Berlin:20251130T150000
DTEND;TZID=Europe/Berlin:20260102T180000
DTSTAMP:20260420T151519
CREATED:20251127T143109Z
LAST-MODIFIED:20251127T143109Z
UID:10000393-1764514800-1767376800@haltern-online.de
SUMMARY:Krippenweg auf Schloss Sythen
DESCRIPTION:Ab dem ersten Advent lädt Schloss Sythen wieder zum traditionellen Krippenweg ein. \nIn stimmungsvoller Kulisse präsentieren sich über den gesamten Schlosspark hinweg vielfältige Krippendarstellungen – liebevoll gestaltet\, kreativ umgesetzt und eingebettet in die historische Atmosphäre des Schlossgeländes. \nDie feierliche Eröffnung findet am Sonntag\, 30. November 2025 um 15:00 Uhr statt. Es sprechen Andreas Stegemann\, Bürgermeister von Haltern am See\, sowie Christine Henning\, 1. Vorsitzende des Fördervereins Schloss Sythen. \nFoto: Canva
URL:https://haltern-online.de/event/krippenweg-auf-schloss-sythen/
LOCATION:Schloss Sythen\, Stockwieser Damm 25\, Haltern am See\, 45721\, Germany
CATEGORIES:Kinderfreundlich
ATTACH;FMTTYPE=image/jpeg:https://haltern-online.de/wp-content/uploads/2025/11/Krippenweg-auf-Schloss-Sythen-Kopfbild.jpg
ORGANIZER;CN="Schloss Sythen":MAILTO:c.henning@schloss-sythen.nrw
END:VEVENT
BEGIN:VEVENT
DTSTART;TZID=Europe/Berlin:20260130T200000
DTEND;TZID=Europe/Berlin:20260130T235900
DTSTAMP:20260420T151519
CREATED:20260114T150604Z
LAST-MODIFIED:20260114T150604Z
UID:10000407-1769803200-1769817540@haltern-online.de
SUMMARY:Rockkonzert mit Sustained Fire\, Wildheart + Ayron
DESCRIPTION:Am Freitag\, den 30. Januar\, wird das Trigon zur Bühne für einen Rockabend in Haltern am See. Ab 20:00 Uhr stehen die Bands Sustained Fire\, Wildheart und Ayron auf der Bühne und sorgen für energiegeladenen Live-Rock. \nDas Publikum darf sich auf kraftvolle Gitarrenriffs\, treibende Rhythmen und ehrlichen\, handgemachten Sound freuen. Mit viel Spielfreude und Leidenschaft versprechen die Musiker einen abwechslungsreichen Abend für Rockfans und Livemusik-Freunde. \nWeitere Informationen: \nFirst Strike 2026 \nBildquelle: Heimatmedien
URL:https://haltern-online.de/event/rockkonzert-mit-sustained-fire-wildheart-ayron/
LOCATION:Trigon Haltern\, Weseler Straße 131\, Haltern\, 45721
CATEGORIES:Konzert,Party
ATTACH;FMTTYPE=image/jpeg:https://haltern-online.de/wp-content/uploads/2026/01/Rockabend-Trigon-Haltern-1200.jpg
END:VEVENT
END:VCALENDAR