BEGIN:VCALENDAR
VERSION:2.0
PRODID:-//Haltern-Online.de - ECPv6.15.20//NONSGML v1.0//EN
CALSCALE:GREGORIAN
METHOD:PUBLISH
X-ORIGINAL-URL:https://haltern-online.de
X-WR-CALDESC:Veranstaltungen für Haltern-Online.de
REFRESH-INTERVAL;VALUE=DURATION:PT1H
X-Robots-Tag:noindex
X-PUBLISHED-TTL:PT1H
BEGIN:VTIMEZONE
TZID:Europe/Berlin
BEGIN:DAYLIGHT
TZOFFSETFROM:+0100
TZOFFSETTO:+0200
TZNAME:CEST
DTSTART:20240331T010000
END:DAYLIGHT
BEGIN:STANDARD
TZOFFSETFROM:+0200
TZOFFSETTO:+0100
TZNAME:CET
DTSTART:20241027T010000
END:STANDARD
BEGIN:DAYLIGHT
TZOFFSETFROM:+0100
TZOFFSETTO:+0200
TZNAME:CEST
DTSTART:20250330T010000
END:DAYLIGHT
BEGIN:STANDARD
TZOFFSETFROM:+0200
TZOFFSETTO:+0100
TZNAME:CET
DTSTART:20251026T010000
END:STANDARD
BEGIN:DAYLIGHT
TZOFFSETFROM:+0100
TZOFFSETTO:+0200
TZNAME:CEST
DTSTART:20260329T010000
END:DAYLIGHT
BEGIN:STANDARD
TZOFFSETFROM:+0200
TZOFFSETTO:+0100
TZNAME:CET
DTSTART:20261025T010000
END:STANDARD
END:VTIMEZONE
BEGIN:VEVENT
DTSTART;TZID=Europe/Berlin:20250430T200000
DTEND;TZID=Europe/Berlin:20250430T200000
DTSTAMP:20260421T062018
CREATED:20250409T124019Z
LAST-MODIFIED:20250409T124418Z
UID:10000241-1746043200-1746043200@haltern-online.de
SUMMARY:„Tanz in den Mai“ auf dem Prickings-Hof
DESCRIPTION:Der Mai wird auf dem Prickings-Hof mit bester Partystimmung begrüßt! Am Mittwoch\, den 30. April 2025\, startet dort ab 20:00 Uhr der traditionelle „Tanz in den Mai“. \nFür ordentlich Stimmung sorgen die Partyband „Like This“ sowie DJ Schenko\, die den Abend musikalisch begleiten. \nGefeiert wird in gemütlicher Atmosphäre direkt auf dem Hofgelände. Tanzfreudige Gäste dürfen sich auf ein abwechslungsreiches Musikprogramm und eine mitreißende Partynacht freuen. Schnell sein lohnt sich: Die Tickets gibt es im Vorverkauf für 15 Euro. \nFoto: Prickings-Hof
URL:https://haltern-online.de/event/tanz-in-den-mai-auf-dem-prickings-hof/
LOCATION:Prickings-Hof\, Niehuser Weg 14\, Haltern am See\, Nordrhein-Westfalen\, 45721\, Germany
CATEGORIES:Party
ATTACH;FMTTYPE=image/jpeg:https://haltern-online.de/wp-content/uploads/2025/04/Tanz-in-den-Mai-Haltern.jpg
ORGANIZER;CN="Prickings-Hof":MAILTO:info@prickings-hof.de
END:VEVENT
END:VCALENDAR