BEGIN:VCALENDAR
VERSION:2.0
PRODID:-//Haltern-Online.de - ECPv6.15.20//NONSGML v1.0//EN
CALSCALE:GREGORIAN
METHOD:PUBLISH
X-ORIGINAL-URL:https://haltern-online.de
X-WR-CALDESC:Veranstaltungen für Haltern-Online.de
REFRESH-INTERVAL;VALUE=DURATION:PT1H
X-Robots-Tag:noindex
X-PUBLISHED-TTL:PT1H
BEGIN:VTIMEZONE
TZID:Europe/Berlin
BEGIN:DAYLIGHT
TZOFFSETFROM:+0100
TZOFFSETTO:+0200
TZNAME:CEST
DTSTART:20240331T010000
END:DAYLIGHT
BEGIN:STANDARD
TZOFFSETFROM:+0200
TZOFFSETTO:+0100
TZNAME:CET
DTSTART:20241027T010000
END:STANDARD
BEGIN:DAYLIGHT
TZOFFSETFROM:+0100
TZOFFSETTO:+0200
TZNAME:CEST
DTSTART:20250330T010000
END:DAYLIGHT
BEGIN:STANDARD
TZOFFSETFROM:+0200
TZOFFSETTO:+0100
TZNAME:CET
DTSTART:20251026T010000
END:STANDARD
BEGIN:DAYLIGHT
TZOFFSETFROM:+0100
TZOFFSETTO:+0200
TZNAME:CEST
DTSTART:20260329T010000
END:DAYLIGHT
BEGIN:STANDARD
TZOFFSETFROM:+0200
TZOFFSETTO:+0100
TZNAME:CET
DTSTART:20261025T010000
END:STANDARD
END:VTIMEZONE
BEGIN:VEVENT
DTSTART;TZID=Europe/Berlin:20251129T110000
DTEND;TZID=Europe/Berlin:20251207T210000
DTSTAMP:20260420T094530
CREATED:20251126T135141Z
LAST-MODIFIED:20251126T135141Z
UID:10000391-1764414000-1765141200@haltern-online.de
SUMMARY:Weihnachtsmarkt im Tierpark am Prickings-Hof
DESCRIPTION:An den ersten beiden Adventswochenenden verwandelt sich der Tierpark auf dem Prickings-Hof in ein stimmungsvolles Winterparadies für die ganze Familie. \nDer Weihnachtsmarkt im Tierpark lädt mit festlich geschmückten Weihnachtsbäumen\, liebevoll dekorierten Ständen und weihnachtlicher Beleuchtung zum Verweilen ein. \nBesucherinnen und Besucher erwarten wärmender Glühwein\, frisch gebackenes Stockbrot und viele weitere winterliche Leckereien. Ein abwechslungsreiches Programm mit Erlebnis- und Verkaufsständen sorgt für weihnachtliche Stimmung bei Groß und Klein. \nWährend des Besuchs lässt sich auch der Tierpark erkunden\, perfekt für einen Familienausflug mit Kindern. \nFoto: Canva
URL:https://haltern-online.de/event/weihnachtsmarkt-im-tierpark-am-prickings-hof/
LOCATION:Prickings-Hof\, Niehuser Weg 14\, Haltern am See\, Nordrhein-Westfalen\, 45721\, Germany
CATEGORIES:Markt
ATTACH;FMTTYPE=image/jpeg:https://haltern-online.de/wp-content/uploads/2025/11/Weihnachtsmarkt.jpg
ORGANIZER;CN="Prickings-Hof":MAILTO:info@prickings-hof.de
END:VEVENT
END:VCALENDAR