BEGIN:VCALENDAR
VERSION:2.0
PRODID:-//Haltern-Online.de - ECPv6.15.20//NONSGML v1.0//EN
CALSCALE:GREGORIAN
METHOD:PUBLISH
X-ORIGINAL-URL:https://haltern-online.de
X-WR-CALDESC:Veranstaltungen für Haltern-Online.de
REFRESH-INTERVAL;VALUE=DURATION:PT1H
X-Robots-Tag:noindex
X-PUBLISHED-TTL:PT1H
BEGIN:VTIMEZONE
TZID:Europe/Berlin
BEGIN:DAYLIGHT
TZOFFSETFROM:+0100
TZOFFSETTO:+0200
TZNAME:CEST
DTSTART:20230326T010000
END:DAYLIGHT
BEGIN:STANDARD
TZOFFSETFROM:+0200
TZOFFSETTO:+0100
TZNAME:CET
DTSTART:20231029T010000
END:STANDARD
BEGIN:DAYLIGHT
TZOFFSETFROM:+0100
TZOFFSETTO:+0200
TZNAME:CEST
DTSTART:20240331T010000
END:DAYLIGHT
BEGIN:STANDARD
TZOFFSETFROM:+0200
TZOFFSETTO:+0100
TZNAME:CET
DTSTART:20241027T010000
END:STANDARD
BEGIN:DAYLIGHT
TZOFFSETFROM:+0100
TZOFFSETTO:+0200
TZNAME:CEST
DTSTART:20250330T010000
END:DAYLIGHT
BEGIN:STANDARD
TZOFFSETFROM:+0200
TZOFFSETTO:+0100
TZNAME:CET
DTSTART:20251026T010000
END:STANDARD
BEGIN:DAYLIGHT
TZOFFSETFROM:+0100
TZOFFSETTO:+0200
TZNAME:CEST
DTSTART:20260329T010000
END:DAYLIGHT
BEGIN:STANDARD
TZOFFSETFROM:+0200
TZOFFSETTO:+0100
TZNAME:CET
DTSTART:20261025T010000
END:STANDARD
END:VTIMEZONE
BEGIN:VEVENT
DTSTART;TZID=Europe/Berlin:20250112T100000
DTEND;TZID=Europe/Berlin:20250112T130000
DTSTAMP:20260422T104630
CREATED:20241125T110948Z
LAST-MODIFIED:20241125T110948Z
UID:10000168-1736676000-1736686800@haltern-online.de
SUMMARY:Monroes Finest Kreativ-Brunch mit Maleri
DESCRIPTION:Beim gemütlichen Brunch am Sonntag den 12.01.2025 von 10:00 Uhr bis 13:00 Uhr\,  gestaltet ihr eure persönliche Keramik. \nDa steht sie\, die weiße Rohkeramik\, will von dir bemalt werden. Kann ich nicht\, gibt es nicht. Lass die eigene Fantasie fließen\, wir haben passenden Techniktipps: vorzeichnen\, drauf los malen oder unsere Hilfsmittel nutzen. Und dann\, in die Farben abtauchen\, es einfach geschehen lassen. Glasiert und gebrannt kannst du deine neue Lieblingskeramik nach 10 Tagen abholen. Wir freuen uns auf euch! \nKosten: 49\,00 Euro / Person (inkl. 1 Keramik\, Brunch\, Filterkaffee\, Säfte & Mineralwasser). \nTickets sind online erhältlich.
URL:https://haltern-online.de/event/monroes-finest-kreativ-brunch-mit-maleri/
LOCATION:Monroes Finest\, Gantepoth 9\, Haltern am See\, 45721\, Germany
CATEGORIES:Essen&Trinken,Hobby,Kurs & Seminare
ATTACH;FMTTYPE=image/jpeg:https://haltern-online.de/wp-content/uploads/2024/11/Fruehstueck.jpg
ORGANIZER;CN="Monroes Finest":MAILTO:kontakt@monroesfinest.de
END:VEVENT
BEGIN:VEVENT
DTSTART;TZID=Europe/Berlin:20241208T100000
DTEND;TZID=Europe/Berlin:20241208T130000
DTSTAMP:20260422T104630
CREATED:20241125T111521Z
LAST-MODIFIED:20241125T111544Z
UID:10000163-1733652000-1733662800@haltern-online.de
SUMMARY:Monroes Finest Kreativ-Brunch mit Maleri
DESCRIPTION:Beim gemütlichen Brunch am Sonntag den 08.12.2024 von 10:00 Uhr bis 13:00 Uhr\,  gestaltet ihr eure persönliche Keramik. \nDa steht sie\, die weiße Rohkeramik\, will von dir bemalt werden. Kann ich nicht\, gibt es nicht. Lass die eigene Fantasie fließen\, wir haben passenden Techniktipps: vorzeichnen\, drauf los malen oder unsere Hilfsmittel nutzen. Und dann\, in die Farben abtauchen\, es einfach geschehen lassen. Glasiert und gebrannt kannst du deine neue Lieblingskeramik nach 10 Tagen abholen. Wir freuen uns auf euch! \nKosten: 49\,00 Euro / Person (inkl. 1 Keramik\, Brunch\, Filterkaffee\, Säfte & Mineralwasser). \nTickets sind online erhältlich.
URL:https://haltern-online.de/event/monroes-finest-kreativ-brunch-mit-maleri-2/
LOCATION:Monroes Finest\, Gantepoth 9\, Haltern am See\, 45721\, Germany
CATEGORIES:Essen&Trinken,Kurs & Seminare
ATTACH;FMTTYPE=image/jpeg:https://haltern-online.de/wp-content/uploads/2024/11/brunch.jpg
ORGANIZER;CN="Monroes Finest":MAILTO:kontakt@monroesfinest.de
END:VEVENT
END:VCALENDAR