BEGIN:VCALENDAR
VERSION:2.0
PRODID:-//Haltern-Online.de - ECPv6.15.20//NONSGML v1.0//EN
CALSCALE:GREGORIAN
METHOD:PUBLISH
X-ORIGINAL-URL:https://haltern-online.de
X-WR-CALDESC:Veranstaltungen für Haltern-Online.de
REFRESH-INTERVAL;VALUE=DURATION:PT1H
X-Robots-Tag:noindex
X-PUBLISHED-TTL:PT1H
BEGIN:VTIMEZONE
TZID:Europe/Berlin
BEGIN:DAYLIGHT
TZOFFSETFROM:+0100
TZOFFSETTO:+0200
TZNAME:CEST
DTSTART:20250330T010000
END:DAYLIGHT
BEGIN:STANDARD
TZOFFSETFROM:+0200
TZOFFSETTO:+0100
TZNAME:CET
DTSTART:20251026T010000
END:STANDARD
BEGIN:DAYLIGHT
TZOFFSETFROM:+0100
TZOFFSETTO:+0200
TZNAME:CEST
DTSTART:20260329T010000
END:DAYLIGHT
BEGIN:STANDARD
TZOFFSETFROM:+0200
TZOFFSETTO:+0100
TZNAME:CET
DTSTART:20261025T010000
END:STANDARD
BEGIN:DAYLIGHT
TZOFFSETFROM:+0100
TZOFFSETTO:+0200
TZNAME:CEST
DTSTART:20270328T010000
END:DAYLIGHT
BEGIN:STANDARD
TZOFFSETFROM:+0200
TZOFFSETTO:+0100
TZNAME:CET
DTSTART:20271031T010000
END:STANDARD
END:VTIMEZONE
BEGIN:VEVENT
DTSTART;TZID=Europe/Berlin:20260307T130000
DTEND;TZID=Europe/Berlin:20260307T160000
DTSTAMP:20260422T104649
CREATED:20260219T121301Z
LAST-MODIFIED:20260219T121301Z
UID:10000433-1772888400-1772899200@haltern-online.de
SUMMARY:Kräuterwanderung: Die Kraft der Knospen
DESCRIPTION:Im März beginnt die Natur sichtbar zu erwachen. Knospen schwellen an\, erste Wildkräuter zeigen sich am Wegesrand und die Pflanzenwelt startet in einen neuen Jahreskreis. \nNaturparkführerin Carmen Berling lädt am Sonntag\, 07. März 2026\, zu einer besonderen Kräuterwanderung nach Haltern am See ein. Im Mittelpunkt steht die Gemmotherapie\, also das Heilen mit der Kraft der Knospen. In ihnen steckt das gesamte Entwicklungspotential einer Pflanze und damit eine besondere Energie\, die in der Phytotherapie genutzt wird. \nWährend der rund dreistündigen Führung lernen die Teilnehmenden essbare Wildpflanzen und heilsame Kräuter kennen. Gemeinsam werden Pflanzen bestimmt\, gerochen\, gefühlt und teilweise auch geschmeckt. Dabei erfahren die Teilnehmenden\, welche Pflanzenteile im März gesammelt werden können und wie Knospen\, Blätter oder andere Bestandteile später für Wohlbefinden\, Gesundheit oder Genuss verwendet werden. \nDie Wanderung richtet sich an naturinteressierte Erwachsene jeden Alters. Neben fundiertem Wissen steht der Austausch in der Gruppe im Mittelpunkt. Viele erleben die intensive Begegnung mit Pflanzen als berührend und nehmen neue Perspektiven auf die heimische Natur mit nach Hause. \nDie Teilnahme kostet 25 Euro pro Person. Eine Anmeldung ist erforderlich und erfolgt direkt über die Website der Naturparkführer Hohe Mark. \nTitelbild: KI-generiert / Heimatmedien GmbH
URL:https://haltern-online.de/event/kraeuterwanderung-die-kraft-der-knospen/
LOCATION:Haltern am See
CATEGORIES:Kinderfreundlich,Natur
ATTACH;FMTTYPE=image/jpeg:https://haltern-online.de/wp-content/uploads/2026/02/kraft-der-knospen-gemmotherapie-haltern-2026.jpg.jpg
ORGANIZER;CN="Naturparkf%C3%BChrer Hohe Mark e.V.":MAILTO:info@hohemarkerleben.de
END:VEVENT
END:VCALENDAR