BEGIN:VCALENDAR
VERSION:2.0
PRODID:-//Haltern-Online.de - ECPv6.15.20//NONSGML v1.0//EN
CALSCALE:GREGORIAN
METHOD:PUBLISH
X-ORIGINAL-URL:https://haltern-online.de
X-WR-CALDESC:Veranstaltungen für Haltern-Online.de
REFRESH-INTERVAL;VALUE=DURATION:PT1H
X-Robots-Tag:noindex
X-PUBLISHED-TTL:PT1H
BEGIN:VTIMEZONE
TZID:Europe/Berlin
BEGIN:DAYLIGHT
TZOFFSETFROM:+0100
TZOFFSETTO:+0200
TZNAME:CEST
DTSTART:20240331T010000
END:DAYLIGHT
BEGIN:STANDARD
TZOFFSETFROM:+0200
TZOFFSETTO:+0100
TZNAME:CET
DTSTART:20241027T010000
END:STANDARD
BEGIN:DAYLIGHT
TZOFFSETFROM:+0100
TZOFFSETTO:+0200
TZNAME:CEST
DTSTART:20250330T010000
END:DAYLIGHT
BEGIN:STANDARD
TZOFFSETFROM:+0200
TZOFFSETTO:+0100
TZNAME:CET
DTSTART:20251026T010000
END:STANDARD
BEGIN:DAYLIGHT
TZOFFSETFROM:+0100
TZOFFSETTO:+0200
TZNAME:CEST
DTSTART:20260329T010000
END:DAYLIGHT
BEGIN:STANDARD
TZOFFSETFROM:+0200
TZOFFSETTO:+0100
TZNAME:CET
DTSTART:20261025T010000
END:STANDARD
END:VTIMEZONE
BEGIN:VEVENT
DTSTART;TZID=Europe/Berlin:20250314T190000
DTEND;TZID=Europe/Berlin:20250314T220000
DTSTAMP:20260420T122203
CREATED:20250216T083450Z
LAST-MODIFIED:20250216T083933Z
UID:10000209-1741978800-1741989600@haltern-online.de
SUMMARY:"Klotzen statt Kleckern" Lesung mit Katrin Iskam
DESCRIPTION:Klotzen statt Kleckern – Gärtnern ohne viel Geschiss\nLesung mit Bestseller-Autorin und Garten-Bloggerin Katrin Iskam: \nKatrin Iskam hat nicht den einen grünen Daumen\, sondern gleich zwei davon. „Gärtnern ohne viel Geschiss“ ist ihr Motto! \n„Katrinchen“ ist einzigartig und definitiv auch ein bisschen verrückt. Denn wer buddelt\, schaufelt und gräbt schon in Gummistiefeln und Nachthemd? In einem unterhaltsamen Mix aus humorvollen Anekdoten und fachkundigen Tipps nimmt die gelernte Krankenschwester Sie mit auf eine Reise durch die grüne Welt der Gartenkunst. Dabei zeigt sie\, wie jeder und jede mit Witz\, Kreativität und Leichtigkeit den eigenen Garten in ein wahres Paradies verwandeln kann. Wichtigstes Werkzeug: die Gabel! \nLassen Sie sich am 14.03.2025 von 19:00 Uhr bis 22:00 Uhr in der St. Sixtus Haltern von Katrin Iskam zeigen\, dass Gärtnern nicht nur eine Kunst\, sondern auch ein Vergnügen ist! \nEine Veranstaltung der Buchhandlung Kortenkamp. \nTickets für 15\,00 Euro sind in der Buchhandlung Kortenkamp erhältlich.
URL:https://haltern-online.de/event/klotzen-statt-kleckern-lesung-mit-katrin-iskam/
LOCATION:St. Sixtus\, Markt 19\, Haltern am See\, 45721\, Germany
CATEGORIES:Hobby,Lesung / Vortrag
ATTACH;FMTTYPE=image/jpeg:https://haltern-online.de/wp-content/uploads/2024/10/Maerchen.jpg
ORGANIZER;CN="Buchhandlung Kortenkamp":MAILTO:service@kortenkamp.de
END:VEVENT
END:VCALENDAR