BEGIN:VCALENDAR
VERSION:2.0
PRODID:-//Haltern-Online.de - ECPv6.15.20//NONSGML v1.0//EN
CALSCALE:GREGORIAN
METHOD:PUBLISH
X-ORIGINAL-URL:https://haltern-online.de
X-WR-CALDESC:Veranstaltungen für Haltern-Online.de
REFRESH-INTERVAL;VALUE=DURATION:PT1H
X-Robots-Tag:noindex
X-PUBLISHED-TTL:PT1H
BEGIN:VTIMEZONE
TZID:Europe/Berlin
BEGIN:DAYLIGHT
TZOFFSETFROM:+0100
TZOFFSETTO:+0200
TZNAME:CEST
DTSTART:20240331T010000
END:DAYLIGHT
BEGIN:STANDARD
TZOFFSETFROM:+0200
TZOFFSETTO:+0100
TZNAME:CET
DTSTART:20241027T010000
END:STANDARD
BEGIN:DAYLIGHT
TZOFFSETFROM:+0100
TZOFFSETTO:+0200
TZNAME:CEST
DTSTART:20250330T010000
END:DAYLIGHT
BEGIN:STANDARD
TZOFFSETFROM:+0200
TZOFFSETTO:+0100
TZNAME:CET
DTSTART:20251026T010000
END:STANDARD
BEGIN:DAYLIGHT
TZOFFSETFROM:+0100
TZOFFSETTO:+0200
TZNAME:CEST
DTSTART:20260329T010000
END:DAYLIGHT
BEGIN:STANDARD
TZOFFSETFROM:+0200
TZOFFSETTO:+0100
TZNAME:CET
DTSTART:20261025T010000
END:STANDARD
END:VTIMEZONE
BEGIN:VEVENT
DTSTART;TZID=Europe/Berlin:20250830T180000
DTEND;TZID=Europe/Berlin:20250830T235900
DTSTAMP:20260420T134005
CREATED:20250816T104804Z
LAST-MODIFIED:20250816T105341Z
UID:10000329-1756576800-1756598340@haltern-online.de
SUMMARY:Karibische Nacht im Freibad Sythen
DESCRIPTION:Palmen\, Pool und Partyfeeling: Am 30. August verwandelt sich das Freibad Sythen in eine karibische Oase. Bei Cocktails\, Tretbootfahrten und Nachtschwimmen bis 24 Uhr erwartet euch eine unvergessliche Sommernacht. \nMusikalisch sorgen DJ Stephan Haverkamp\, DJ Fred Farwick und die Pink Panta Band für tropische Vibes. Mit dabei sind auch TanzExpress\, LaserSupport\, Goodtimes\, GinFizzies & Friends sowie Leos. \nEintritt:8 € im Vorverkauf (an der Freibadkasse)10 € an der AbendkasseKinder bis 12 Jahre haben freien Eintritt. \nDer Erlös fließt in den Erhalt des ehrenamtlich geführten Freibads.
URL:https://haltern-online.de/event/karibische-nacht-im-freibad-sythen/
LOCATION:Freibad Sythen\, Mosskamp 30\, Haltern am See\, 45721\, Germany
CATEGORIES:Essen&Trinken,Konzert
ATTACH;FMTTYPE=image/jpeg:https://haltern-online.de/wp-content/uploads/2025/08/Karibische-Nacht-Freibad-Sythen-2025.jpg
ORGANIZER;CN="Freibad Sythen":MAILTO:info@freibad-sythen.de
END:VEVENT
END:VCALENDAR