BEGIN:VCALENDAR
VERSION:2.0
PRODID:-//Haltern-Online.de - ECPv6.15.20//NONSGML v1.0//EN
CALSCALE:GREGORIAN
METHOD:PUBLISH
X-ORIGINAL-URL:https://haltern-online.de
X-WR-CALDESC:Veranstaltungen für Haltern-Online.de
REFRESH-INTERVAL;VALUE=DURATION:PT1H
X-Robots-Tag:noindex
X-PUBLISHED-TTL:PT1H
BEGIN:VTIMEZONE
TZID:Europe/Berlin
BEGIN:DAYLIGHT
TZOFFSETFROM:+0100
TZOFFSETTO:+0200
TZNAME:CEST
DTSTART:20240331T010000
END:DAYLIGHT
BEGIN:STANDARD
TZOFFSETFROM:+0200
TZOFFSETTO:+0100
TZNAME:CET
DTSTART:20241027T010000
END:STANDARD
BEGIN:DAYLIGHT
TZOFFSETFROM:+0100
TZOFFSETTO:+0200
TZNAME:CEST
DTSTART:20250330T010000
END:DAYLIGHT
BEGIN:STANDARD
TZOFFSETFROM:+0200
TZOFFSETTO:+0100
TZNAME:CET
DTSTART:20251026T010000
END:STANDARD
BEGIN:DAYLIGHT
TZOFFSETFROM:+0100
TZOFFSETTO:+0200
TZNAME:CEST
DTSTART:20260329T010000
END:DAYLIGHT
BEGIN:STANDARD
TZOFFSETFROM:+0200
TZOFFSETTO:+0100
TZNAME:CET
DTSTART:20261025T010000
END:STANDARD
END:VTIMEZONE
BEGIN:VEVENT
DTSTART;TZID=Europe/Berlin:20250717T170000
DTEND;TZID=Europe/Berlin:20250717T210000
DTSTAMP:20260420T103532
CREATED:20250717T112135Z
LAST-MODIFIED:20250717T112135Z
UID:10000327-1752771600-1752786000@haltern-online.de
SUMMARY:Feierabendmarkt – Sonnenausklang auf dem Marktplatz in Haltern
DESCRIPTION:Ein kühler Drink\, entspannte Beats und gute Gespräche. Beim „FeierAbend“ auf dem Marktplatz in Haltern klingt der Tag in bester Gesellschaft aus. Ob nach der Arbeit oder einfach als schöner Treffpunkt mit Freund:innen: Von 17 bis 21 Uhr erwartet dich eine sommerliche Auszeit mit Live-Musik\, Streetfood und jeder Menge Feierabendstimmung.
URL:https://haltern-online.de/event/feierabendmarkt-sonnenausklang-auf-dem-marktplatz-in-haltern/
LOCATION:Marktplatz\, Markt 1\, Haltern am See\, 45721
CATEGORIES:Einkaufen/Shoppen,Essen&Trinken
ATTACH;FMTTYPE=image/jpeg:https://haltern-online.de/wp-content/uploads/2025/06/Feierabendmarkt-Haltern.jpg
END:VEVENT
BEGIN:VEVENT
DTSTART;TZID=Europe/Berlin:20250515T170000
DTEND;TZID=Europe/Berlin:20250515T210000
DTSTAMP:20260420T103532
CREATED:20250430T144300Z
LAST-MODIFIED:20250430T144336Z
UID:10000246-1747328400-1747342800@haltern-online.de
SUMMARY:FeierAbend auf dem Marktplatz in Haltern am See
DESCRIPTION:Mitten im historischen Stadtkern von Haltern am See lädt der „FeierAbend“ am Donnerstag\, 15. Mai 2025\, von 17 bis 21 Uhr zum entspannten Tagesausklang ein. Unter freiem Himmel und begleitet von chilligen Beats erwarten die Besucherinnen und Besucher kühle Drinks\, leckere Snacks und eine gemütliche Atmosphäre. \nAn mehreren Ständen bieten lokale Anbieter und Gastronomen ihre Produkte und Kleinigkeiten zum Genießen an. Musikalisch untermalt wird das Event durch wechselnde DJ-Sets oder Live-Musik – ganz im Zeichen eines entschleunigten Feierabends. \nDas Format findet an jedem dritten Donnerstag im Frühling und Sommer statt (Ausnahmen durch Feiertage möglich) und hat sich längst zu einem kleinen\, stimmungsvollen Treffpunkt für Einheimische und Gäste entwickelt. \nDer Eintritt ist frei.
URL:https://haltern-online.de/event/feierabend-auf-dem-marktplatz-in-haltern-am-see-2/
LOCATION:Marktplatz\, Markt 1\, Haltern am See\, 45721
CATEGORIES:Markt
ATTACH;FMTTYPE=image/jpeg:https://haltern-online.de/wp-content/uploads/2025/03/Feierabend-Haltern.jpg
ORGANIZER;CN="Stadt Haltern am See":MAILTO:info@haltern-im-see.de
END:VEVENT
BEGIN:VEVENT
DTSTART;TZID=Europe/Berlin:20250417T170000
DTEND;TZID=Europe/Berlin:20250417T210000
DTSTAMP:20260420T103532
CREATED:20250317T155806Z
LAST-MODIFIED:20250317T155813Z
UID:10000235-1744909200-1744923600@haltern-online.de
SUMMARY:FeierAbend auf dem Marktplatz in Haltern am See
DESCRIPTION:Der FeierAbend auf dem Marktplatz in Haltern am See ist die perfekte Gelegenheit\, den Tag entspannt ausklingen zu lassen. Bei chilligen Beats\, leckeren Drinks und köstlichen Snacks lädt die Veranstaltung dazu ein\, sich mit Freunden zu treffen und die besondere Atmosphäre der Seestadt zu genießen. \nJeden dritten Donnerstag im Frühling und Sommer verwandelt sich der historische Stadtkern in eine kleine Wohlfühloase. Unterschiedliche Stände bieten kulinarische Köstlichkeiten und laden zum Verweilen ein. Die musikalische Untermalung sorgt für eine entspannte Stimmung – ein Abend\, der einfach gut tut. \nViele Besucherinnen und Besucher bezeichnen den FeierAbend bereits als „das kleine Heimatfest“. Ein Event\, das zum Genießen und Abschalten einlädt. \nFotoquelle: Haltern tut gut
URL:https://haltern-online.de/event/feierabend-auf-dem-marktplatz-in-haltern-am-see/
LOCATION:Marktplatz\, Markt 1\, Haltern am See\, 45721
CATEGORIES:Markt
ATTACH;FMTTYPE=image/jpeg:https://haltern-online.de/wp-content/uploads/2025/03/Feierabend-Haltern.jpg
END:VEVENT
END:VCALENDAR