BEGIN:VCALENDAR
VERSION:2.0
PRODID:-//Haltern-Online.de - ECPv6.15.20//NONSGML v1.0//EN
CALSCALE:GREGORIAN
METHOD:PUBLISH
X-ORIGINAL-URL:https://haltern-online.de
X-WR-CALDESC:Veranstaltungen für Haltern-Online.de
REFRESH-INTERVAL;VALUE=DURATION:PT1H
X-Robots-Tag:noindex
X-PUBLISHED-TTL:PT1H
BEGIN:VTIMEZONE
TZID:Europe/Berlin
BEGIN:DAYLIGHT
TZOFFSETFROM:+0100
TZOFFSETTO:+0200
TZNAME:CEST
DTSTART:20240331T010000
END:DAYLIGHT
BEGIN:STANDARD
TZOFFSETFROM:+0200
TZOFFSETTO:+0100
TZNAME:CET
DTSTART:20241027T010000
END:STANDARD
BEGIN:DAYLIGHT
TZOFFSETFROM:+0100
TZOFFSETTO:+0200
TZNAME:CEST
DTSTART:20250330T010000
END:DAYLIGHT
BEGIN:STANDARD
TZOFFSETFROM:+0200
TZOFFSETTO:+0100
TZNAME:CET
DTSTART:20251026T010000
END:STANDARD
BEGIN:DAYLIGHT
TZOFFSETFROM:+0100
TZOFFSETTO:+0200
TZNAME:CEST
DTSTART:20260329T010000
END:DAYLIGHT
BEGIN:STANDARD
TZOFFSETFROM:+0200
TZOFFSETTO:+0100
TZNAME:CET
DTSTART:20261025T010000
END:STANDARD
BEGIN:DAYLIGHT
TZOFFSETFROM:+0100
TZOFFSETTO:+0200
TZNAME:CEST
DTSTART:20270328T010000
END:DAYLIGHT
BEGIN:STANDARD
TZOFFSETFROM:+0200
TZOFFSETTO:+0100
TZNAME:CET
DTSTART:20271031T010000
END:STANDARD
END:VTIMEZONE
BEGIN:VEVENT
DTSTART;TZID=Europe/Berlin:20260416T170000
DTEND;TZID=Europe/Berlin:20260416T210000
DTSTAMP:20260422T121219
CREATED:20260408T090616Z
LAST-MODIFIED:20260408T104417Z
UID:10000480-1776358800-1776373200@haltern-online.de
SUMMARY:FeierAbend in Haltern am See
DESCRIPTION:Von 17 bis 21 Uhr lädt Haltern am See jeden dritten Donnerstag im Frühling und Sommer zum FeierAbend ein. Ausnahmen an Feiertagen sind möglich. \nIn entspannter Atmosphäre erwarten die Besucher unterschiedliche Stände\, kleine Angebote und Musik. Ideal\, um den Arbeitstag locker ausklingen zu lassen. \nWeitere Termine:  \n\n16. April 2026\n21. Mai 2026\n18. Juni 2026\n16. Juli 2026\n20. August 2026\n17. September 2026\n\nWeitere Informationen gibt es HIER. \n 
URL:https://haltern-online.de/event/feierabend-in-haltern-am-see/2026-04-16/
LOCATION:Marktplatz\, Markt 1\, Haltern am See\, 45721
CATEGORIES:Essen&Trinken,Kinderfreundlich,Lifestyle,Markt,Stadtfeste
ATTACH;FMTTYPE=image/jpeg:https://haltern-online.de/wp-content/uploads/2025/03/Feierabend-Haltern.jpg
ORGANIZER;CN="Stadt Haltern am See":MAILTO:info@haltern-im-see.de
END:VEVENT
BEGIN:VEVENT
DTSTART;TZID=Europe/Berlin:20250618T170000
DTEND;TZID=Europe/Berlin:20250618T210000
DTSTAMP:20260422T121219
CREATED:20250520T091806Z
LAST-MODIFIED:20250520T095346Z
UID:10000271-1750266000-1750280400@haltern-online.de
SUMMARY:FeierAbend auf dem Marktplatz Haltern
DESCRIPTION:Die beliebte Veranstaltungsreihe „FeierAbend“ wird wegen des Feiertags vorverlegt und findet dieses Mal schon am Mittwoch statt. \nVon 17 bis 21 Uhr verwandelt sich der Marktplatz in Haltern in einen Treffpunkt für Genießer: Mit Live-Musik\, regionalen Köstlichkeiten und sommerlicher Stimmung ist für einen entspannten Abend gesorgt. \nOb nach der Arbeit\, mit Freunden oder der Familie – einfach vorbeikommen und den Feierabend in geselliger Atmosphäre genießen! \nFoto: Haltern tut gut
URL:https://haltern-online.de/event/feierabend-auf-dem-marktplatz-haltern/
LOCATION:Marktplatz\, Markt 1\, Haltern am See\, 45721
CATEGORIES:Markt
ATTACH;FMTTYPE=image/jpeg:https://haltern-online.de/wp-content/uploads/2025/03/Feierabend-Haltern.jpg
ORGANIZER;CN="Stadt Haltern am See":MAILTO:info@haltern-im-see.de
END:VEVENT
BEGIN:VEVENT
DTSTART;TZID=Europe/Berlin:20250515T170000
DTEND;TZID=Europe/Berlin:20250515T210000
DTSTAMP:20260422T121219
CREATED:20250430T144300Z
LAST-MODIFIED:20250430T144336Z
UID:10000246-1747328400-1747342800@haltern-online.de
SUMMARY:FeierAbend auf dem Marktplatz in Haltern am See
DESCRIPTION:Mitten im historischen Stadtkern von Haltern am See lädt der „FeierAbend“ am Donnerstag\, 15. Mai 2025\, von 17 bis 21 Uhr zum entspannten Tagesausklang ein. Unter freiem Himmel und begleitet von chilligen Beats erwarten die Besucherinnen und Besucher kühle Drinks\, leckere Snacks und eine gemütliche Atmosphäre. \nAn mehreren Ständen bieten lokale Anbieter und Gastronomen ihre Produkte und Kleinigkeiten zum Genießen an. Musikalisch untermalt wird das Event durch wechselnde DJ-Sets oder Live-Musik – ganz im Zeichen eines entschleunigten Feierabends. \nDas Format findet an jedem dritten Donnerstag im Frühling und Sommer statt (Ausnahmen durch Feiertage möglich) und hat sich längst zu einem kleinen\, stimmungsvollen Treffpunkt für Einheimische und Gäste entwickelt. \nDer Eintritt ist frei.
URL:https://haltern-online.de/event/feierabend-auf-dem-marktplatz-in-haltern-am-see-2/
LOCATION:Marktplatz\, Markt 1\, Haltern am See\, 45721
CATEGORIES:Markt
ATTACH;FMTTYPE=image/jpeg:https://haltern-online.de/wp-content/uploads/2025/03/Feierabend-Haltern.jpg
ORGANIZER;CN="Stadt Haltern am See":MAILTO:info@haltern-im-see.de
END:VEVENT
END:VCALENDAR