BEGIN:VCALENDAR
VERSION:2.0
PRODID:-//Haltern-Online.de - ECPv6.15.20//NONSGML v1.0//EN
CALSCALE:GREGORIAN
METHOD:PUBLISH
X-ORIGINAL-URL:https://haltern-online.de
X-WR-CALDESC:Veranstaltungen für Haltern-Online.de
REFRESH-INTERVAL;VALUE=DURATION:PT1H
X-Robots-Tag:noindex
X-PUBLISHED-TTL:PT1H
BEGIN:VTIMEZONE
TZID:Europe/Berlin
BEGIN:DAYLIGHT
TZOFFSETFROM:+0100
TZOFFSETTO:+0200
TZNAME:CEST
DTSTART:20240331T010000
END:DAYLIGHT
BEGIN:STANDARD
TZOFFSETFROM:+0200
TZOFFSETTO:+0100
TZNAME:CET
DTSTART:20241027T010000
END:STANDARD
BEGIN:DAYLIGHT
TZOFFSETFROM:+0100
TZOFFSETTO:+0200
TZNAME:CEST
DTSTART:20250330T010000
END:DAYLIGHT
BEGIN:STANDARD
TZOFFSETFROM:+0200
TZOFFSETTO:+0100
TZNAME:CET
DTSTART:20251026T010000
END:STANDARD
BEGIN:DAYLIGHT
TZOFFSETFROM:+0100
TZOFFSETTO:+0200
TZNAME:CEST
DTSTART:20260329T010000
END:DAYLIGHT
BEGIN:STANDARD
TZOFFSETFROM:+0200
TZOFFSETTO:+0100
TZNAME:CET
DTSTART:20261025T010000
END:STANDARD
END:VTIMEZONE
BEGIN:VEVENT
DTSTART;TZID=Europe/Berlin:20250216T170000
DTEND;TZID=Europe/Berlin:20250216T200000
DTSTAMP:20260422T104650
CREATED:20250126T113242Z
LAST-MODIFIED:20250126T113242Z
UID:10000206-1739725200-1739736000@haltern-online.de
SUMMARY:Jubiläumskonzert: 50 Jahre Chor der Erlöserkirche
DESCRIPTION:Fakten im Überblick:\n\nWas: Jubiläumskonzert zum 50-jährigen Bestehen des Chores der Erlöserkirche\nWann: 16. Februar 2025\, 17 Uhr\nWo: Erlöserkirche Haltern\nWer: Chor der Erlöserkirche und Neue Kantorei Datteln unter Leitung von Sung-Jin Suh\nProgramm: „Missa sacra op. 147“ von Robert Schumann\nKosten: Eintritt frei\, Spenden erwünscht\nRahmenprogramm: Ausstellung „50 Jahre Chor der Erlöserkirche“ und Sektempfang
URL:https://haltern-online.de/event/jubilaeumskonzert-50-jahre-chor-der-erloeserkirche/
LOCATION:Erlöserkirche – Ev. Kirchengemeinde Haltern\, Hennewiger Weg 8\, Haltern am See\, Nordrhein-Westfalen\, 45721\, Germany
CATEGORIES:Konzert
ATTACH;FMTTYPE=image/jpeg:https://haltern-online.de/wp-content/uploads/2025/01/Jubilaeumskonzert-50-Jahre-Chor-der-Erloeserkirche.jpg
END:VEVENT
END:VCALENDAR