BEGIN:VCALENDAR
VERSION:2.0
PRODID:-//Haltern-Online.de - ECPv6.15.20//NONSGML v1.0//EN
CALSCALE:GREGORIAN
METHOD:PUBLISH
X-ORIGINAL-URL:https://haltern-online.de
X-WR-CALDESC:Veranstaltungen für Haltern-Online.de
REFRESH-INTERVAL;VALUE=DURATION:PT1H
X-Robots-Tag:noindex
X-PUBLISHED-TTL:PT1H
BEGIN:VTIMEZONE
TZID:Europe/Berlin
BEGIN:DAYLIGHT
TZOFFSETFROM:+0100
TZOFFSETTO:+0200
TZNAME:CEST
DTSTART:20240331T010000
END:DAYLIGHT
BEGIN:STANDARD
TZOFFSETFROM:+0200
TZOFFSETTO:+0100
TZNAME:CET
DTSTART:20241027T010000
END:STANDARD
BEGIN:DAYLIGHT
TZOFFSETFROM:+0100
TZOFFSETTO:+0200
TZNAME:CEST
DTSTART:20250330T010000
END:DAYLIGHT
BEGIN:STANDARD
TZOFFSETFROM:+0200
TZOFFSETTO:+0100
TZNAME:CET
DTSTART:20251026T010000
END:STANDARD
BEGIN:DAYLIGHT
TZOFFSETFROM:+0100
TZOFFSETTO:+0200
TZNAME:CEST
DTSTART:20260329T010000
END:DAYLIGHT
BEGIN:STANDARD
TZOFFSETFROM:+0200
TZOFFSETTO:+0100
TZNAME:CET
DTSTART:20261025T010000
END:STANDARD
END:VTIMEZONE
BEGIN:VEVENT
DTSTART;TZID=Europe/Berlin:20250802T090000
DTEND;TZID=Europe/Berlin:20250802T160000
DTSTAMP:20260420T121346
CREATED:20250715T143231Z
LAST-MODIFIED:20250715T143231Z
UID:10000318-1754125200-1754150400@haltern-online.de
SUMMARY:62. Büchermarkt Haltern am See
DESCRIPTION:Am Samstag\, 2. August 2025\, findet von 9:00 bis 16:00 Uhr der 62. Büchermarkt auf dem Marktplatz in Haltern am See statt. \nUnter freiem Himmel präsentieren zahlreiche Aussteller ein breites Angebot rund ums Buch – von Romanen über Kinder- und Jugendbücher bis hin zu antiquarischen Fundstücken und Sachliteratur. \nDer traditionsreiche Markt lädt zum Stöbern\, Schmökern und Entdecken ein. Ob Sammler oder Gelegenheitssuchende – hier kommen Buchliebhaberinnen und Buchliebhaber auf ihre Kosten. Der Eintritt ist frei. \nWann: Samstag\, 02.08.2025\, 9:00 bis 16:00 UhrWo: Marktplatz Haltern am See\, InnenstadtEintritt: freiVeranstalter: Stadt Haltern am See
URL:https://haltern-online.de/event/62-buechermarkt-haltern-am-see/
LOCATION:Marktplatz\, Markt 1\, Haltern am See\, 45721
CATEGORIES:Markt
ATTACH;FMTTYPE=image/jpeg:https://haltern-online.de/wp-content/uploads/2025/06/Feierabendmarkt-Haltern.jpg
ORGANIZER;CN="Stadt Haltern am See":MAILTO:info@haltern-im-see.de
END:VEVENT
BEGIN:VEVENT
DTSTART;TZID=Europe/Berlin:20250503T090000
DTEND;TZID=Europe/Berlin:20250503T160000
DTSTAMP:20260420T121346
CREATED:20250430T133555Z
LAST-MODIFIED:20250430T133642Z
UID:10000244-1746262800-1746288000@haltern-online.de
SUMMARY:61. Büchermarkt auf dem Marktplatz in Haltern am See
DESCRIPTION:Am Samstag\, 3. Mai 2025\, verwandelt sich der Marktplatz in Haltern am See wieder in ein Paradies für Bücherfreunde. Von 9 bis 16 Uhr lädt der 61. Büchermarkt zum Stöbern\, Kaufen\, Verkaufen und Tauschen ein. \nNeben regionalen Buchhandlungen und Antiquariaten sind zahlreiche private Anbieter aus dem Ruhrgebiet und Münsterland vertreten. Das Angebot reicht von vergriffenen Raritäten bis hin zu günstigen Romanen für den Urlaub. \nDer Markt bietet eine große Auswahl an Büchern aller Art – ob Krimi\, Kinderbuch oder Klassiker. Wer gezielt sucht oder einfach schmökern möchte\, ist hier genau richtig. \nDer Eintritt ist frei.
URL:https://haltern-online.de/event/61-buechermarkt-auf-dem-marktplatz-in-haltern-am-see/
LOCATION:Marktplatz\, Markt 1\, Haltern am See\, 45721
CATEGORIES:Markt
ATTACH;FMTTYPE=image/jpeg:https://haltern-online.de/wp-content/uploads/2024/10/Buecherei.jpg
ORGANIZER;CN="Stadt Haltern am See":MAILTO:info@haltern-im-see.de
END:VEVENT
END:VCALENDAR