BEGIN:VCALENDAR
VERSION:2.0
PRODID:-//Haltern-Online.de - ECPv6.15.20//NONSGML v1.0//EN
CALSCALE:GREGORIAN
METHOD:PUBLISH
X-ORIGINAL-URL:https://haltern-online.de
X-WR-CALDESC:Veranstaltungen für Haltern-Online.de
REFRESH-INTERVAL;VALUE=DURATION:PT1H
X-Robots-Tag:noindex
X-PUBLISHED-TTL:PT1H
BEGIN:VTIMEZONE
TZID:Europe/Berlin
BEGIN:DAYLIGHT
TZOFFSETFROM:+0100
TZOFFSETTO:+0200
TZNAME:CEST
DTSTART:20250330T010000
END:DAYLIGHT
BEGIN:STANDARD
TZOFFSETFROM:+0200
TZOFFSETTO:+0100
TZNAME:CET
DTSTART:20251026T010000
END:STANDARD
BEGIN:DAYLIGHT
TZOFFSETFROM:+0100
TZOFFSETTO:+0200
TZNAME:CEST
DTSTART:20260329T010000
END:DAYLIGHT
BEGIN:STANDARD
TZOFFSETFROM:+0200
TZOFFSETTO:+0100
TZNAME:CET
DTSTART:20261025T010000
END:STANDARD
BEGIN:DAYLIGHT
TZOFFSETFROM:+0100
TZOFFSETTO:+0200
TZNAME:CEST
DTSTART:20270328T010000
END:DAYLIGHT
BEGIN:STANDARD
TZOFFSETFROM:+0200
TZOFFSETTO:+0100
TZNAME:CET
DTSTART:20271031T010000
END:STANDARD
END:VTIMEZONE
BEGIN:VEVENT
DTSTART;TZID=Europe/Berlin:20260502T090000
DTEND;TZID=Europe/Berlin:20260502T160000
DTSTAMP:20260422T133617
CREATED:20260421T084111Z
LAST-MODIFIED:20260421T084111Z
UID:10000484-1777712400-1777737600@haltern-online.de
SUMMARY:Büchermarkt auf dem Marktplatz
DESCRIPTION:Der Büchermarkt in Haltern bietet eine abwechslungsreiche Mischung aus Buchhändlern\, Antiquariaten und zahlreichen privaten Anbietern\, die ihre aussortierten Bestände präsentieren. \nNeben lokalen Ausstellern sind auch Standbetreiber aus dem Ruhrgebiet und dem Münsterland vertreten. Bücherfreunde haben hier vielfältige Möglichkeiten zum Stöbern\, Kaufen\, Verkaufen oder Tauschen von Druckerzeugnissen aller Art.
URL:https://haltern-online.de/event/buechermarkt-auf-dem-marktplatz/
LOCATION:Marktplatz\, Markt 1\, Haltern am See\, 45721
ATTACH;FMTTYPE=image/jpeg:https://haltern-online.de/wp-content/uploads/2025/07/Stadt-Haltern-am-See-Buechermarkt.jpg
ORGANIZER;CN="Stadt Haltern am See":MAILTO:info@haltern-im-see.de
END:VEVENT
END:VCALENDAR