BEGIN:VCALENDAR
VERSION:2.0
PRODID:-//Haltern-Online.de - ECPv6.15.20//NONSGML v1.0//EN
CALSCALE:GREGORIAN
METHOD:PUBLISH
X-ORIGINAL-URL:https://haltern-online.de
X-WR-CALDESC:Veranstaltungen für Haltern-Online.de
REFRESH-INTERVAL;VALUE=DURATION:PT1H
X-Robots-Tag:noindex
X-PUBLISHED-TTL:PT1H
BEGIN:VTIMEZONE
TZID:Europe/Berlin
BEGIN:DAYLIGHT
TZOFFSETFROM:+0100
TZOFFSETTO:+0200
TZNAME:CEST
DTSTART:20230326T010000
END:DAYLIGHT
BEGIN:STANDARD
TZOFFSETFROM:+0200
TZOFFSETTO:+0100
TZNAME:CET
DTSTART:20231029T010000
END:STANDARD
BEGIN:DAYLIGHT
TZOFFSETFROM:+0100
TZOFFSETTO:+0200
TZNAME:CEST
DTSTART:20240331T010000
END:DAYLIGHT
BEGIN:STANDARD
TZOFFSETFROM:+0200
TZOFFSETTO:+0100
TZNAME:CET
DTSTART:20241027T010000
END:STANDARD
BEGIN:DAYLIGHT
TZOFFSETFROM:+0100
TZOFFSETTO:+0200
TZNAME:CEST
DTSTART:20250330T010000
END:DAYLIGHT
BEGIN:STANDARD
TZOFFSETFROM:+0200
TZOFFSETTO:+0100
TZNAME:CET
DTSTART:20251026T010000
END:STANDARD
END:VTIMEZONE
BEGIN:VEVENT
DTSTART;TZID=Europe/Berlin:20241113T193000
DTEND;TZID=Europe/Berlin:20241113T213000
DTSTAMP:20260420T164006
CREATED:20241107T185812Z
LAST-MODIFIED:20241107T190823Z
UID:10000061-1731526200-1731533400@haltern-online.de
SUMMARY:Bücherherbst in der Buchhandlung Kortenkamp
DESCRIPTION:Bücherherbst – Die Buchvorstellung in der Buchhandlung Kortenkamp am 13. November 2024 von 19:30 Uhr bis 21:30 Uhr. \nWas wäre der Herbst ohne ein gutes Buch? Wenn es draußen langsam ungemütlich wird\, gibt es doch nichts Besseres als es sich mit einem Buch auf dem Sofa gemütlich zu machen. Damit Sie sich nicht selbst durch die vielen Neuerscheinungen wühlen müssen\, stellen wir Ihnen wieder unsere Geheimtipps im Herbst vor. Von lustigen\, romantischen und unterhaltsamen Romanen bis spannende Thriller – für jeden Geschmack ist etwas dabei! \nKarten für 8\,00 Euro erhalten Sie bei uns in der Buchhandlung.
URL:https://haltern-online.de/event/buecherherbst-in-der-buchhandlung-kortenkamp/
LOCATION:Buchhandlung Kortenkamp\, Lippstraße 2\, Haltern am See\, Nordrhein-Westfalen\, 45721\, Germany
CATEGORIES:Hobby,Kultur
ATTACH;FMTTYPE=image/jpeg:https://haltern-online.de/wp-content/uploads/2024/10/Buecherei.jpg
ORGANIZER;CN="Buchhandlung Kortenkamp":MAILTO:service@kortenkamp.de
END:VEVENT
END:VCALENDAR