BEGIN:VCALENDAR
VERSION:2.0
PRODID:-//Haltern-Online.de - ECPv6.15.20//NONSGML v1.0//EN
CALSCALE:GREGORIAN
METHOD:PUBLISH
X-WR-CALNAME:Haltern-Online.de
X-ORIGINAL-URL:https://haltern-online.de
X-WR-CALDESC:Veranstaltungen für Haltern-Online.de
REFRESH-INTERVAL;VALUE=DURATION:PT1H
X-Robots-Tag:noindex
X-PUBLISHED-TTL:PT1H
BEGIN:VTIMEZONE
TZID:Europe/Berlin
BEGIN:DAYLIGHT
TZOFFSETFROM:+0100
TZOFFSETTO:+0200
TZNAME:CEST
DTSTART:20240331T010000
END:DAYLIGHT
BEGIN:STANDARD
TZOFFSETFROM:+0200
TZOFFSETTO:+0100
TZNAME:CET
DTSTART:20241027T010000
END:STANDARD
BEGIN:DAYLIGHT
TZOFFSETFROM:+0100
TZOFFSETTO:+0200
TZNAME:CEST
DTSTART:20250330T010000
END:DAYLIGHT
BEGIN:STANDARD
TZOFFSETFROM:+0200
TZOFFSETTO:+0100
TZNAME:CET
DTSTART:20251026T010000
END:STANDARD
BEGIN:DAYLIGHT
TZOFFSETFROM:+0100
TZOFFSETTO:+0200
TZNAME:CEST
DTSTART:20260329T010000
END:DAYLIGHT
BEGIN:STANDARD
TZOFFSETFROM:+0200
TZOFFSETTO:+0100
TZNAME:CET
DTSTART:20261025T010000
END:STANDARD
END:VTIMEZONE
BEGIN:VEVENT
DTSTART;TZID=Europe/Berlin:20250329T170000
DTEND;TZID=Europe/Berlin:20250329T170000
DTSTAMP:20260420T133905
CREATED:20250123T103624Z
LAST-MODIFIED:20250123T151346Z
UID:10000204-1743267600-1743267600@haltern-online.de
SUMMARY:Jubiläumskonzert: 30 Jahre Blasorchester Hullern
DESCRIPTION:Wann? Samstag\, 29. März 2025\, 17:00 Uhr\nWo? Aula des Schulzentrums Haltern\, Holtwicker Straße 3\, 45721 Haltern am See\nVeranstalter: Blasorchester Hullern e.V. \nFeiern Sie mit uns 30 Jahre Blasorchester Hullern! Erleben Sie ein musikalisches Highlight mit über 60 Musikerinnen und Musikern\, Licht- und Showeffekten sowie einem abwechslungsreichen Programm. Zu Gast ist der Musikverein 1821 Neuerburg aus der Eifel – gemeinsam präsentieren die Orchester epische Filmmusik\, swingende Medleys und traditionelle Märsche. Die Schulband „Fall“ der Alexander-Lebenstein-Realschule sorgt für besondere musikalische Akzente\, unterstützt durch die Licht- und Tontechnik AG. \nDer Eintritt ist frei. Spenden werden erbeten\, um die musikalische Jugendarbeit der Realschule sowie des Trigons Haltern zu fördern. \n \nFoto: Verein
URL:https://haltern-online.de/event/jubilaeumskonzert-30-jahre-blasorchester-hullern/
LOCATION:Aula Des Schulzentrums\, Holtwicker Str. 5\, Haltern am See\, Nordrhein-Westfalen\, 45721\, Germany
CATEGORIES:Gesprächskreis,Kultur,Sport
ATTACH;FMTTYPE=image/jpeg:https://haltern-online.de/wp-content/uploads/2025/01/Blasorchesta-Hullern.jpg
END:VEVENT
END:VCALENDAR