BEGIN:VCALENDAR
VERSION:2.0
PRODID:-//Haltern-Online.de - ECPv6.15.20//NONSGML v1.0//EN
CALSCALE:GREGORIAN
METHOD:PUBLISH
X-ORIGINAL-URL:https://haltern-online.de
X-WR-CALDESC:Veranstaltungen für Haltern-Online.de
REFRESH-INTERVAL;VALUE=DURATION:PT1H
X-Robots-Tag:noindex
X-PUBLISHED-TTL:PT1H
BEGIN:VTIMEZONE
TZID:Europe/Berlin
BEGIN:DAYLIGHT
TZOFFSETFROM:+0100
TZOFFSETTO:+0200
TZNAME:CEST
DTSTART:20240331T010000
END:DAYLIGHT
BEGIN:STANDARD
TZOFFSETFROM:+0200
TZOFFSETTO:+0100
TZNAME:CET
DTSTART:20241027T010000
END:STANDARD
BEGIN:DAYLIGHT
TZOFFSETFROM:+0100
TZOFFSETTO:+0200
TZNAME:CEST
DTSTART:20250330T010000
END:DAYLIGHT
BEGIN:STANDARD
TZOFFSETFROM:+0200
TZOFFSETTO:+0100
TZNAME:CET
DTSTART:20251026T010000
END:STANDARD
BEGIN:DAYLIGHT
TZOFFSETFROM:+0100
TZOFFSETTO:+0200
TZNAME:CEST
DTSTART:20260329T010000
END:DAYLIGHT
BEGIN:STANDARD
TZOFFSETFROM:+0200
TZOFFSETTO:+0100
TZNAME:CET
DTSTART:20261025T010000
END:STANDARD
END:VTIMEZONE
BEGIN:VEVENT
DTSTART;TZID=Europe/Berlin:20250608T140000
DTEND;TZID=Europe/Berlin:20250608T140000
DTSTAMP:20260420T093248
CREATED:20250514T131757Z
LAST-MODIFIED:20250514T131803Z
UID:10000266-1749391200-1749391200@haltern-online.de
SUMMARY:LWL-Römermuseum: Vor Ort in Aliso
DESCRIPTION:Wie bauten die Römer ihre Lager? Welche Werkzeuge kamen zum Einsatz – und wie vermisst man überhaupt eine Baustelle ohne moderne Technik? \nAm Sonntag\, 8. Juni 2025\, um 14 Uhr lädt das LWL-Römermuseum Haltern Familien mit Kindern ab 8 Jahren zu einer spannenden Führung auf der Römerbaustelle Aliso ein. Im Zentrum stehen dabei römische Bautechniken\, handwerkliche Methoden und historische Vermessung – anschaulich erklärt und kindgerecht vermittelt. \nDie Baustelle wird zum Erlebnisraum: Mitmachstationen und Erklärungen vor Ort machen das Leben und Arbeiten der römischen Baumeister erfahrbar und greifbar. \nAnmeldungen sind erforderlich. \nFoto: Canva
URL:https://haltern-online.de/event/lwl-roemermuseum-vor-ort-in-aliso-2/
LOCATION:LWL-Römermuseum\, Weseler Straße 100\, Haltern am See\, Nordrhein-Westfalen\, 45721\, Germany
CATEGORIES:Führung
ATTACH;FMTTYPE=image/jpeg:https://haltern-online.de/wp-content/uploads/2024/10/Roemermuseum.jpg
ORGANIZER;CN="LWL-R%C3%B6mermuseum":MAILTO:lwl-roemermuseum@lwl.org
END:VEVENT
END:VCALENDAR