BEGIN:VCALENDAR
VERSION:2.0
PRODID:-//Haltern-Online.de - ECPv6.15.20//NONSGML v1.0//EN
CALSCALE:GREGORIAN
METHOD:PUBLISH
X-ORIGINAL-URL:https://haltern-online.de
X-WR-CALDESC:Veranstaltungen für Haltern-Online.de
REFRESH-INTERVAL;VALUE=DURATION:PT1H
X-Robots-Tag:noindex
X-PUBLISHED-TTL:PT1H
BEGIN:VTIMEZONE
TZID:Europe/Berlin
BEGIN:DAYLIGHT
TZOFFSETFROM:+0100
TZOFFSETTO:+0200
TZNAME:CEST
DTSTART:20240331T010000
END:DAYLIGHT
BEGIN:STANDARD
TZOFFSETFROM:+0200
TZOFFSETTO:+0100
TZNAME:CET
DTSTART:20241027T010000
END:STANDARD
BEGIN:DAYLIGHT
TZOFFSETFROM:+0100
TZOFFSETTO:+0200
TZNAME:CEST
DTSTART:20250330T010000
END:DAYLIGHT
BEGIN:STANDARD
TZOFFSETFROM:+0200
TZOFFSETTO:+0100
TZNAME:CET
DTSTART:20251026T010000
END:STANDARD
BEGIN:DAYLIGHT
TZOFFSETFROM:+0100
TZOFFSETTO:+0200
TZNAME:CEST
DTSTART:20260329T010000
END:DAYLIGHT
BEGIN:STANDARD
TZOFFSETFROM:+0200
TZOFFSETTO:+0100
TZNAME:CET
DTSTART:20261025T010000
END:STANDARD
END:VTIMEZONE
BEGIN:VEVENT
DTSTART;TZID=Europe/Berlin:20250817T170000
DTEND;TZID=Europe/Berlin:20250817T170000
DTSTAMP:20260420T133503
CREATED:20250716T092709Z
LAST-MODIFIED:20250716T092739Z
UID:10000324-1755450000-1755450000@haltern-online.de
SUMMARY:Artis GitarrenDuo bei den Sythener Gitarrentagen 2025
DESCRIPTION:Zum Abschluss der Sythener Gitarrentage 2025 präsentieren Julia und Christian Zielinski als Artis GitarrenDuo ein facettenreiches Konzert\, das die klanglichen Möglichkeiten der Gitarre eindrucksvoll auslotet. \nInspiriert vom Leitgedanken „Die Gitarre ist ein Orchester“ schaffen die beiden Musiker intensive Klangbilder\, die das Publikum unmittelbar erreichen.Die musikalische Einheit des Duos wird von der Fachpresse ebenso hervorgehoben wie ihre Virtuosität und Ausdruckskraft. Beide Gitarristen schlossen ihre Studien mit Auszeichnung ab und überzeugten auch im Konzertexamen. Neben einer erfolgreichen Konzertkarriere unterrichten sie an Musikhochschulen in Wiesbaden und Frankfurt. Die Gitarrenlegende Pepe Romero bezeichnet sie als „außergewöhnliche Gitarristen und großartige Musiker“. \nEintritt: 20\,00 € \nKartenvorverkauf: \n\nAb Anfang Juni bei der Stadtagentur\, Markt 1\, 45721 Haltern am See\nTelefonisch unter 02364 933366\nOnline über das Kontaktformular auf der Website\n\nTitelbild: Canva
URL:https://haltern-online.de/event/artis-gitarrenduo-bei-den-sythener-gitarrentagen-2025/
LOCATION:Schloss Sythen\, Stockwieser Damm 25\, Haltern am See\, 45721\, Germany
CATEGORIES:Konzert
ATTACH;FMTTYPE=image/jpeg:https://haltern-online.de/wp-content/uploads/2025/07/Sythener-Gitarrentage-Kopfbild.jpg
ORGANIZER;CN="KulturStiftung Masthoff":MAILTO:hm@kulturstiftung-masthoff.de
END:VEVENT
END:VCALENDAR