BEGIN:VCALENDAR
VERSION:2.0
PRODID:-//Haltern-Online.de - ECPv6.15.20//NONSGML v1.0//EN
CALSCALE:GREGORIAN
METHOD:PUBLISH
X-WR-CALNAME:Haltern-Online.de
X-ORIGINAL-URL:https://haltern-online.de
X-WR-CALDESC:Veranstaltungen für Haltern-Online.de
REFRESH-INTERVAL;VALUE=DURATION:PT1H
X-Robots-Tag:noindex
X-PUBLISHED-TTL:PT1H
BEGIN:VTIMEZONE
TZID:Europe/Berlin
BEGIN:DAYLIGHT
TZOFFSETFROM:+0100
TZOFFSETTO:+0200
TZNAME:CEST
DTSTART:20240331T010000
END:DAYLIGHT
BEGIN:STANDARD
TZOFFSETFROM:+0200
TZOFFSETTO:+0100
TZNAME:CET
DTSTART:20241027T010000
END:STANDARD
BEGIN:DAYLIGHT
TZOFFSETFROM:+0100
TZOFFSETTO:+0200
TZNAME:CEST
DTSTART:20250330T010000
END:DAYLIGHT
BEGIN:STANDARD
TZOFFSETFROM:+0200
TZOFFSETTO:+0100
TZNAME:CET
DTSTART:20251026T010000
END:STANDARD
BEGIN:DAYLIGHT
TZOFFSETFROM:+0100
TZOFFSETTO:+0200
TZNAME:CEST
DTSTART:20260329T010000
END:DAYLIGHT
BEGIN:STANDARD
TZOFFSETFROM:+0200
TZOFFSETTO:+0100
TZNAME:CET
DTSTART:20261025T010000
END:STANDARD
END:VTIMEZONE
BEGIN:VEVENT
DTSTART;TZID=Europe/Berlin:20251228T110000
DTEND;TZID=Europe/Berlin:20251228T150000
DTSTAMP:20260420T105023
CREATED:20251219T143706Z
LAST-MODIFIED:20251219T143706Z
UID:10000402-1766919600-1766934000@haltern-online.de
SUMMARY:Familiensonntag im LWL-Römermuseum Haltern
DESCRIPTION:Wie spielten Kinder zur Zeit der Römer? Bei dieser interaktiven Familienführung geht es um Brett- und Würfelspiele aus der Antike. \nOriginale Fundstücke zeigen\, wie die Spiele aussahen – aus Knochen\, Glas und Ton. Im Anschluss probieren die Teilnehmenden ausgewählte Spiele selbst aus – natürlich nach überlieferten römischen Regeln. \nEin lebendiger Museumsbesuch für Familien mit Kindern ab 6 Jahren – unterhaltsam\, lehrreich und mit viel Spielspaß in den Ferien. \nFoto: Canva
URL:https://haltern-online.de/event/familiensonntag-im-lwl-roemermuseum-haltern/
LOCATION:LWL-Römermuseum\, Weseler Straße 100\, Haltern am See\, Nordrhein-Westfalen\, 45721\, Germany
CATEGORIES:Kinderfreundlich
ATTACH;FMTTYPE=image/jpeg:https://haltern-online.de/wp-content/uploads/2024/10/Roemermuseum.jpg
ORGANIZER;CN="LWL-R%C3%B6mermuseum":MAILTO:lwl-roemermuseum@lwl.org
END:VEVENT
BEGIN:VEVENT
DTSTART;TZID=Europe/Berlin:20250409T193000
DTEND;TZID=Europe/Berlin:20250409T193000
DTSTAMP:20260420T105023
CREATED:20250317T133643Z
LAST-MODIFIED:20250317T141218Z
UID:10000233-1744227000-1744227000@haltern-online.de
SUMMARY:3. Halterner Shoe Slam
DESCRIPTION:Der Halterner Shoe Slam geht in die dritte Runde! Freut euch auf einen unterhaltsamen Abend voller kreativer Wortgefechte im Shoes & More. Fünf talentierte Slammerinnen und Slammer treten mit ihren besten Texten an\, um das Publikum zu begeistern und den begehrten Shoe Slam Pokal zu gewinnen. \nWie immer entscheidet das Publikum\, wer den Sieg mit nach Hause nimmt. Die Veranstaltung läuft nach dem Prinzip „Pay as you want“ – der Beitrag geht direkt an die Künstlerinnen und Künstler. \nFür das leibliche Wohl ist gesorgt. Kommt vorbei und erlebt einen Abend voller Poesie\, Humor und mitreißender Performances.
URL:https://haltern-online.de/event/halterner-shoe-slam/
LOCATION:Shoes & More\, Muttergottesstiege 1\, Haltern am See\, Nordrhein-Westfalen\, 45721\, Germany
CATEGORIES:Lifestyle
ATTACH;FMTTYPE=image/jpeg:https://haltern-online.de/wp-content/uploads/2025/03/3.-Halterner-Shoe-Slam.jpg
END:VEVENT
END:VCALENDAR