BEGIN:VCALENDAR
VERSION:2.0
PRODID:-//Haltern-Online.de - ECPv6.15.20//NONSGML v1.0//EN
CALSCALE:GREGORIAN
METHOD:PUBLISH
X-WR-CALNAME:Haltern-Online.de
X-ORIGINAL-URL:https://haltern-online.de
X-WR-CALDESC:Veranstaltungen für Haltern-Online.de
REFRESH-INTERVAL;VALUE=DURATION:PT1H
X-Robots-Tag:noindex
X-PUBLISHED-TTL:PT1H
BEGIN:VTIMEZONE
TZID:Europe/Berlin
BEGIN:DAYLIGHT
TZOFFSETFROM:+0100
TZOFFSETTO:+0200
TZNAME:CEST
DTSTART:20250330T010000
END:DAYLIGHT
BEGIN:STANDARD
TZOFFSETFROM:+0200
TZOFFSETTO:+0100
TZNAME:CET
DTSTART:20251026T010000
END:STANDARD
BEGIN:DAYLIGHT
TZOFFSETFROM:+0100
TZOFFSETTO:+0200
TZNAME:CEST
DTSTART:20260329T010000
END:DAYLIGHT
BEGIN:STANDARD
TZOFFSETFROM:+0200
TZOFFSETTO:+0100
TZNAME:CET
DTSTART:20261025T010000
END:STANDARD
BEGIN:DAYLIGHT
TZOFFSETFROM:+0100
TZOFFSETTO:+0200
TZNAME:CEST
DTSTART:20270328T010000
END:DAYLIGHT
BEGIN:STANDARD
TZOFFSETFROM:+0200
TZOFFSETTO:+0100
TZNAME:CET
DTSTART:20271031T010000
END:STANDARD
END:VTIMEZONE
BEGIN:VEVENT
DTSTART;TZID=Europe/Berlin:20260606T143000
DTEND;TZID=Europe/Berlin:20260606T173000
DTSTAMP:20260424T035511
CREATED:20260408T092345Z
LAST-MODIFIED:20260408T092345Z
UID:10000458-1780756200-1780767000@haltern-online.de
SUMMARY:Spargel-Buffet an Bord der Möwe
DESCRIPTION:Das Eventschiff „Möwe“ in Haltern lädt zum Spargel-Buffet ein. Die Rundfahrt über den Halterner Stausee wird von einem Spargel-Buffet begleitet. \nDie Gäste erwartet eine Rundfahrt über den Stausee\, ein Sektempfang\, ein Spargelbuffet mit Vorspeisen\, verschiedene Speisen rund um Spargel\, Fleisch- und Fischvariationen und Desserts. \nDie Plätze für die Fahrt sind begrenzt. Tickets sind HIER erhältlich.
URL:https://haltern-online.de/event/spargel-buffet-an-bord-der-moewe/
LOCATION:Eventschiff Möwe
CATEGORIES:Essen&Trinken,Kinderfreundlich,Lifestyle,Natur,Sommer am See
ATTACH;FMTTYPE=image/jpeg:https://haltern-online.de/wp-content/uploads/2026/04/spargelbuffet-moewe-1200.jpg
END:VEVENT
BEGIN:VEVENT
DTSTART;TZID=Europe/Berlin:20260607T140000
DTEND;TZID=Europe/Berlin:20260607T180000
DTSTAMP:20260424T035511
CREATED:20260217T113308Z
LAST-MODIFIED:20260217T113308Z
UID:10000425-1780840800-1780855200@haltern-online.de
SUMMARY:Verkaufsoffener Sonntag
DESCRIPTION:Verkaufsoffener Sonntag in Haltern am See ist an jedem ersten Sonntag im Monat ein fester Termin im Veranstaltungskalender der Stadt. Dabei bietet die Innenstadt die Möglichkeit\, das Angebot des lokalen Einzelhandels kennenzulernen. \nZahlreiche Geschäfte öffnen ihre Türen und bieten Gästen die Gelegenheit\, Einkäufe zu tätigen und das vielfältige Angebot des lokalen Einzelhandels kennenzulernen. Ergänzt wird der verkaufsoffene Sonntag in Haltern am See häufig durch gastronomische Angebote sowie kleinere Aktionen in der Innenstadt. So bietet der Einkaufssonntag eine attraktive Möglichkeit\, Shopping und einen entspannten Aufenthalt miteinander zu verbinden. \nWeitere Informationen: \nStadt Haltern am See | Haltern am See \nBildquelle: Heimatmedien
URL:https://haltern-online.de/event/verkaufsoffener-sonntag-3/
LOCATION:Haltern am See
CATEGORIES:Einkaufen/Shoppen,Kinderfreundlich,Lifestyle
ATTACH;FMTTYPE=image/jpeg:https://haltern-online.de/wp-content/uploads/2026/01/Verkaufsoffener-Sonntag-Haltern-1200.jpg
END:VEVENT
BEGIN:VEVENT
DTSTART;TZID=Europe/Berlin:20260611T080000
DTEND;TZID=Europe/Berlin:20260611T170000
DTSTAMP:20260424T035511
CREATED:20260401T104549Z
LAST-MODIFIED:20260401T104823Z
UID:10000450-1781164800-1781197200@haltern-online.de
SUMMARY:Trödeltag Hullern 2026 lädt zum Mitmachen ein
DESCRIPTION:Beim Trödeltag Hullern 2026 wird ganz Hullern zum Flohmarkt. Am 11. Juli 2026 können Anwohner direkt vor der eigenen Haustür gebrauchte Schätze verkaufen. Die Aktion verbindet Nachbarschaft\, Nachhaltigkeit und Freizeit auf einfache Weise. \nSo funktioniert der Trödeltag in Hullern\nDer Trödeltag in Hullern macht es besonders einfach: Verkauft wird direkt von zuhause aus. Je nach Lage entsteht so ein Dorf-\, Nachbarschafts-\, Hof- oder Garagenflohmarkt. Die Idee dahinter ist bewusst unkompliziert gehalten\, damit möglichst viele Menschen mitmachen. Wer Dinge hat\, die nicht mehr gebraucht werden\, kann sie ohne großen Aufwand weitergeben und so einen kleinen Beitrag zu mehr Nachhaltigkeit leisten. \nWenig Aufwand\, viel Wirkung\nDer Aufwand ist überschaubar. Statt einzelne Artikel online einzustellen oder früh morgens zu einem klassischen Trödelmarkt zu fahren\, reicht es\, die Sachen auf dem eigenen Grundstück aufzubauen. Besucher kommen direkt vorbei. Auch Nachbarn können sich zusammenschließen und gemeinsam einen größeren Trödelstand organisieren.
URL:https://haltern-online.de/event/troedeltag-hullern-2026-laedt-zum-mitmachen-ein/
LOCATION:Hullerner See\, Wanderparkplatz 35 / Hohe Niemen\, Hullerner Straße\, Haltern am See\, Nordrhein-Westfalen\, 45721\, Germany
CATEGORIES:Markt
ATTACH;FMTTYPE=image/jpeg:https://haltern-online.de/wp-content/uploads/2026/04/troedeltag-Haltern-hullern-verkaufen-veranstaltung.jpg
END:VEVENT
BEGIN:VEVENT
DTSTART;TZID=Europe/Berlin:20260612T120000
DTEND;TZID=Europe/Berlin:20260614T233000
DTSTAMP:20260424T035511
CREATED:20251114T101730Z
LAST-MODIFIED:20251114T101730Z
UID:10000385-1781265600-1781479800@haltern-online.de
SUMMARY:Schützenfest 2026 in Alt-Hamm Bossendorf  – Jetzt vormerken!
DESCRIPTION:Was: Schützenfest Alt-Hamm Bossendorf 2026\nWann: Freitag\, 12. Juni bis Sonntag\, 14. Juni 2026\nWo: Alt Hamm Bossendorf in Haltern am See\nWer: Schützenverein Alt Hamm Bossendorf\nWie: Traditionelles Schützenfest mit Königsschießen \n\n\n\nFügen sie den Termin ganz einfach zu Ihrem Kalender hinzu! \n 
URL:https://haltern-online.de/event/schuetzenfest-2026-in-alt-hamm-bossendorf-jetzt-vormerken/
LOCATION:Bürger- und Schützenverein Alt-Hamm Bossendorf e.V.\, Marler Straße 8\, Haltern am See\, Nordrhein-Westfalen\, 45721\, Germany
CATEGORIES:Schützenfest
ATTACH;FMTTYPE=image/jpeg:https://haltern-online.de/wp-content/uploads/2025/11/Schuetzenfest-Hamm-Bossendorf-Kopfbild.jpg
ORGANIZER;CN="B%C3%BCrger- und Sch%C3%BCtzenverein Alt-Hamm Bossendorf e.V.":MAILTO:Seelandhorst63@gmail.com
END:VEVENT
BEGIN:VEVENT
DTSTART;TZID=Europe/Berlin:20260618T170000
DTEND;TZID=Europe/Berlin:20260618T210000
DTSTAMP:20260424T035511
CREATED:20260408T090616Z
LAST-MODIFIED:20260408T104417Z
UID:10000466-1781802000-1781816400@haltern-online.de
SUMMARY:FeierAbend in Haltern am See
DESCRIPTION:Von 17 bis 21 Uhr lädt Haltern am See jeden dritten Donnerstag im Frühling und Sommer zum FeierAbend ein. Ausnahmen an Feiertagen sind möglich. \nIn entspannter Atmosphäre erwarten die Besucher unterschiedliche Stände\, kleine Angebote und Musik. Ideal\, um den Arbeitstag locker ausklingen zu lassen. \nWeitere Termine:  \n\n16. April 2026\n21. Mai 2026\n18. Juni 2026\n16. Juli 2026\n20. August 2026\n17. September 2026\n\nWeitere Informationen gibt es HIER. \n 
URL:https://haltern-online.de/event/feierabend-in-haltern-am-see/2026-06-18/
LOCATION:Marktplatz\, Markt 1\, Haltern am See\, 45721
CATEGORIES:Essen&Trinken,Kinderfreundlich,Lifestyle,Markt,Stadtfeste
ATTACH;FMTTYPE=image/jpeg:https://haltern-online.de/wp-content/uploads/2025/03/Feierabend-Haltern.jpg
ORGANIZER;CN="Stadt Haltern am See":MAILTO:info@haltern-im-see.de
END:VEVENT
BEGIN:VEVENT
DTSTART;TZID=Europe/Berlin:20260619T120000
DTEND;TZID=Europe/Berlin:20260621T233000
DTSTAMP:20260424T035511
CREATED:20251114T131107Z
LAST-MODIFIED:20251114T131107Z
UID:10000386-1781870400-1782084600@haltern-online.de
SUMMARY:Schützenfest 2026 in Hullern – Jetzt vormerken!
DESCRIPTION:Was: Schützenfest Hullern 2026\nWann: Freitag 19. Juni bis Sonntag 21. Juni 2026\nWo: Hullern Haltern am See\nWer: Schützenverein Hullern\nWie: Traditionelles Schützenfest \nFügen sie den Termin ganz einfach zu Ihrem Kalender hinzu!
URL:https://haltern-online.de/event/schuetzenfest-2026-in-hullern-jetzt-vormerken/
LOCATION:Nordrhein-Westfalen
CATEGORIES:Schützenfest
ATTACH;FMTTYPE=image/jpeg:https://haltern-online.de/wp-content/uploads/2025/11/Schuetzenfest-Hullern-Kopfbild.jpg
ORGANIZER;CN="Heimat- & Sch%C3%BCtzenverein Hullern e.V.":MAILTO:norbert@meisterfleisch.de
END:VEVENT
BEGIN:VEVENT
DTSTART;TZID=Europe/Berlin:20260626T170000
DTEND;TZID=Europe/Berlin:20260626T230000
DTSTAMP:20260424T035511
CREATED:20260408T101403Z
LAST-MODIFIED:20260408T101403Z
UID:10000459-1782493200-1782514800@haltern-online.de
SUMMARY:Sunset Beach Festival 2026
DESCRIPTION:Auch 2026 bringt das Sunset Beach Festival alles mit\, was ein perfekter Sommertag braucht: Sonne\, Sand und ein vielfältiges Line-up elektronischer Musik. \nMit internationalen Top-Acts wie YouNotUs\, aufstrebenden Künstlern wie Noel Holler\, The Ironix und Micky Hurts sowie regionalen Favoriten Salvatore Mancuso und Marlon Kindermann ist Festivalstimmung garantiert. \nSeit 12 Jahren verwandelt sich das Seebad Haltern am See in eine riesige Open-Air-Tanzfläche: Sommer\, See und elektronische Beats inklusive. \nTickets sind HIER erhältlich.
URL:https://haltern-online.de/event/sunset-beach-festival-2026/2026-06-26/
LOCATION:Seebad Haltern am See\, Hullerner Straße 52\, Haltern am See\, 45721\, Germany
CATEGORIES:Konzert,Lifestyle,Party,Sommer am See
ATTACH;FMTTYPE=image/jpeg:https://haltern-online.de/wp-content/uploads/2025/06/Sunset-Beach-Festival-Samstag-28.06-26.jpg
END:VEVENT
BEGIN:VEVENT
DTSTART;TZID=Europe/Berlin:20260627T150000
DTEND;TZID=Europe/Berlin:20260627T234500
DTSTAMP:20260424T035511
CREATED:20260408T101403Z
LAST-MODIFIED:20260408T101403Z
UID:10000460-1782572400-1782603900@haltern-online.de
SUMMARY:Sunset Beach Festival 2026
DESCRIPTION:Auch 2026 bringt das Sunset Beach Festival alles mit\, was ein perfekter Sommertag braucht: Sonne\, Sand und ein vielfältiges Line-up elektronischer Musik. \nMit internationalen Top-Acts wie YouNotUs\, aufstrebenden Künstlern wie Noel Holler\, The Ironix und Micky Hurts sowie regionalen Favoriten Salvatore Mancuso und Marlon Kindermann ist Festivalstimmung garantiert. \nSeit 12 Jahren verwandelt sich das Seebad Haltern am See in eine riesige Open-Air-Tanzfläche: Sommer\, See und elektronische Beats inklusive. \nTickets sind HIER erhältlich.
URL:https://haltern-online.de/event/sunset-beach-festival-2026/2026-06-27/
LOCATION:Seebad Haltern am See\, Hullerner Straße 52\, Haltern am See\, 45721\, Germany
CATEGORIES:Konzert,Lifestyle,Party,Sommer am See
ATTACH;FMTTYPE=image/jpeg:https://haltern-online.de/wp-content/uploads/2025/06/Sunset-Beach-Festival-Samstag-28.06-26.jpg
END:VEVENT
END:VCALENDAR